| Back to Multiple platform build/check report for BioC 3.12 | 
 | 
This page was generated on 2021-05-06 12:34:59 -0400 (Thu, 06 May 2021).
| To the developers/maintainers of the flowCut package: Please make sure to use the following settings in order to reproduce any error or warning you see on this page. | 
| Package 618/1974 | Hostname | OS / Arch | INSTALL | BUILD | CHECK | BUILD BIN | ||||||||
| flowCut 1.0.0  (landing page) Justin Meskas 
 | malbec1 | Linux (Ubuntu 18.04.5 LTS) / x86_64 | OK | OK | OK |  | ||||||||
| tokay1 | Windows Server 2012 R2 Standard / x64 | OK | OK | OK | OK |  | ||||||||
| merida1 | macOS 10.14.6 Mojave / x86_64 | OK | OK | OK | OK |  | ||||||||
| Package: flowCut | 
| Version: 1.0.0 | 
| Command: /Library/Frameworks/R.framework/Versions/Current/Resources/bin/R CMD build --keep-empty-dirs --no-resave-data flowCut | 
| StartedAt: 2021-05-05 19:29:02 -0400 (Wed, 05 May 2021) | 
| EndedAt: 2021-05-05 19:29:43 -0400 (Wed, 05 May 2021) | 
| EllapsedTime: 40.1 seconds | 
| RetCode: 0 | 
| Status: OK | 
| PackageFile: flowCut_1.0.0.tar.gz | 
| PackageFileSize: 7.342 MiB | 
############################################################################## ############################################################################## ### ### Running command: ### ### /Library/Frameworks/R.framework/Versions/Current/Resources/bin/R CMD build --keep-empty-dirs --no-resave-data flowCut ### ############################################################################## ############################################################################## * checking for file ‘flowCut/DESCRIPTION’ ... OK * preparing ‘flowCut’: * checking DESCRIPTION meta-information ... OK * installing the package to build vignettes * creating vignettes ... OK * checking for LF line-endings in source and make files and shell scripts * checking for empty or unneeded directories * looking to see if a ‘data/datalist’ file should be added * building ‘flowCut_1.0.0.tar.gz’