| Back to Multiple platform build/check report for BioC 3.12 | 
  | 
This page was generated on 2021-05-06 12:31:18 -0400 (Thu, 06 May 2021).
| 
To the developers/maintainers of the flowClean package: Please make sure to use the following settings in order to reproduce any error or warning you see on this page.  | 
| Package 615/1974 | Hostname | OS / Arch | INSTALL | BUILD | CHECK | BUILD BIN | ||||||||
| flowClean 1.28.0  (landing page) Kipper Fletez-Brant 
  | malbec1 | Linux (Ubuntu 18.04.5 LTS) / x86_64 | OK | OK | WARNINGS | |||||||||
| tokay1 | Windows Server 2012 R2 Standard / x64 | OK | OK | WARNINGS | OK | |||||||||
| merida1 | macOS 10.14.6 Mojave / x86_64 | OK | OK | WARNINGS | OK | |||||||||
| Package: flowClean | 
| Version: 1.28.0 | 
| Command: rm -rf flowClean.buildbin-libdir && mkdir flowClean.buildbin-libdir && C:\Users\biocbuild\bbs-3.12-bioc\R\bin\R.exe CMD INSTALL --merge-multiarch --build --library=flowClean.buildbin-libdir flowClean_1.28.0.tar.gz | 
| StartedAt: 2021-05-06 09:04:49 -0400 (Thu, 06 May 2021) | 
| EndedAt: 2021-05-06 09:05:35 -0400 (Thu, 06 May 2021) | 
| EllapsedTime: 46.5 seconds | 
| RetCode: 0 | 
| Status: OK | 
| PackageFile: flowClean_1.28.0.zip | 
| PackageFileSize: 4.628 MiB | 
##############################################################################
##############################################################################
###
### Running command:
###
###   rm -rf flowClean.buildbin-libdir && mkdir flowClean.buildbin-libdir && C:\Users\biocbuild\bbs-3.12-bioc\R\bin\R.exe CMD INSTALL --merge-multiarch --build --library=flowClean.buildbin-libdir flowClean_1.28.0.tar.gz
###
##############################################################################
##############################################################################
install for i386
* installing *source* package 'flowClean' ...
** using staged installation
** R
** data
** inst
** byte-compile and prepare package for lazy loading
** help
*** installing help indices
  converting help for package 'flowClean'
    finding HTML links ... done
    clean                                   html  
    synPerturbed                            html  
** building package indices
** installing vignettes
** testing if installed package can be loaded from temporary location
** testing if installed package can be loaded from final location
** testing if installed package keeps a record of temporary installation path
install for x64
* installing *source* package 'flowClean' ...
** testing if installed package can be loaded
* MD5 sums
packaged installation of 'flowClean' as flowClean_1.28.0.zip
* DONE (flowClean)