| Back to Multiple platform build/check report for BioC 3.12 |
|
This page was generated on 2021-05-06 12:31:18 -0400 (Thu, 06 May 2021).
|
To the developers/maintainers of the flowCL package: Please make sure to use the following settings in order to reproduce any error or warning you see on this page. |
| Package 614/1974 | Hostname | OS / Arch | INSTALL | BUILD | CHECK | BUILD BIN | ||||||||
| flowCL 1.28.1 (landing page) Justin Meskas
| malbec1 | Linux (Ubuntu 18.04.5 LTS) / x86_64 | OK | OK | OK | |||||||||
| tokay1 | Windows Server 2012 R2 Standard / x64 | OK | OK | OK | OK | |||||||||
| merida1 | macOS 10.14.6 Mojave / x86_64 | OK | OK | OK | OK | |||||||||
| Package: flowCL |
| Version: 1.28.1 |
| Command: rm -rf flowCL.buildbin-libdir && mkdir flowCL.buildbin-libdir && C:\Users\biocbuild\bbs-3.12-bioc\R\bin\R.exe CMD INSTALL --merge-multiarch --build --library=flowCL.buildbin-libdir flowCL_1.28.1.tar.gz |
| StartedAt: 2021-05-06 09:04:46 -0400 (Thu, 06 May 2021) |
| EndedAt: 2021-05-06 09:05:28 -0400 (Thu, 06 May 2021) |
| EllapsedTime: 42.8 seconds |
| RetCode: 0 |
| Status: OK |
| PackageFile: flowCL_1.28.1.zip |
| PackageFileSize: 304.7 KiB |
##############################################################################
##############################################################################
###
### Running command:
###
### rm -rf flowCL.buildbin-libdir && mkdir flowCL.buildbin-libdir && C:\Users\biocbuild\bbs-3.12-bioc\R\bin\R.exe CMD INSTALL --merge-multiarch --build --library=flowCL.buildbin-libdir flowCL_1.28.1.tar.gz
###
##############################################################################
##############################################################################
install for i386
* installing *source* package 'flowCL' ...
** using staged installation
** R
** data
** inst
** byte-compile and prepare package for lazy loading
** help
*** installing help indices
converting help for package 'flowCL'
finding HTML links ... done
flowCL-package html
flowCL html
flowCL_archive html
test.flowCL.connection html
** building package indices
** installing vignettes
** testing if installed package can be loaded from temporary location
** testing if installed package can be loaded from final location
** testing if installed package keeps a record of temporary installation path
install for x64
* installing *source* package 'flowCL' ...
** testing if installed package can be loaded
* MD5 sums
packaged installation of 'flowCL' as flowCL_1.28.1.zip
* DONE (flowCL)