| Back to Multiple platform build/check report for BioC 3.12 |
|
This page was generated on 2021-05-06 12:27:34 -0400 (Thu, 06 May 2021).
|
To the developers/maintainers of the flagme package: Please make sure to use the following settings in order to reproduce any error or warning you see on this page. |
| Package 608/1974 | Hostname | OS / Arch | INSTALL | BUILD | CHECK | BUILD BIN | ||||||||
| flagme 1.46.0 (landing page) Mark Robinson
| malbec1 | Linux (Ubuntu 18.04.5 LTS) / x86_64 | OK | OK | WARNINGS | |||||||||
| tokay1 | Windows Server 2012 R2 Standard / x64 | OK | OK | WARNINGS | OK | |||||||||
| merida1 | macOS 10.14.6 Mojave / x86_64 | OK | OK | WARNINGS | OK | |||||||||
| Package: flagme |
| Version: 1.46.0 |
| Command: /home/biocbuild/bbs-3.12-bioc/R/bin/R CMD build --keep-empty-dirs --no-resave-data flagme |
| StartedAt: 2021-05-05 19:02:49 -0400 (Wed, 05 May 2021) |
| EndedAt: 2021-05-05 19:04:46 -0400 (Wed, 05 May 2021) |
| EllapsedTime: 117.5 seconds |
| RetCode: 0 |
| Status: OK |
| PackageFile: flagme_1.46.0.tar.gz |
| PackageFileSize: 425.3 KiB |
##############################################################################
##############################################################################
###
### Running command:
###
### /home/biocbuild/bbs-3.12-bioc/R/bin/R CMD build --keep-empty-dirs --no-resave-data flagme
###
##############################################################################
##############################################################################
* checking for file ‘flagme/DESCRIPTION’ ... OK
* preparing ‘flagme’:
* checking DESCRIPTION meta-information ... OK
* cleaning src
* installing the package to build vignettes
* creating vignettes ... OK
Warning: ‘inst/doc’ file
‘flagme.Rnw’
ignored as vignettes have been rebuilt.
Run R CMD build with --no-build-vignettes to prevent rebuilding.
* cleaning src
* checking for LF line-endings in source and make files and shell scripts
* checking for empty or unneeded directories
* building ‘flagme_1.46.0.tar.gz’