| Back to Multiple platform build/check report for BioC 3.12 |
|
This page was generated on 2021-05-06 12:34:57 -0400 (Thu, 06 May 2021).
|
To the developers/maintainers of the fCI package: Please make sure to use the following settings in order to reproduce any error or warning you see on this page. |
| Package 595/1974 | Hostname | OS / Arch | INSTALL | BUILD | CHECK | BUILD BIN | ||||||||
| fCI 1.20.0 (landing page) Shaojun Tang
| malbec1 | Linux (Ubuntu 18.04.5 LTS) / x86_64 | OK | OK | OK | |||||||||
| tokay1 | Windows Server 2012 R2 Standard / x64 | OK | OK | OK | OK | |||||||||
| merida1 | macOS 10.14.6 Mojave / x86_64 | ERROR | ERROR | skipped | skipped | |||||||||
| Package: fCI |
| Version: 1.20.0 |
| Command: /Library/Frameworks/R.framework/Versions/Current/Resources/bin/R CMD build --keep-empty-dirs --no-resave-data fCI |
| StartedAt: 2021-05-05 19:26:00 -0400 (Wed, 05 May 2021) |
| EndedAt: 2021-05-05 19:26:10 -0400 (Wed, 05 May 2021) |
| EllapsedTime: 10.0 seconds |
| RetCode: 1 |
| Status: ERROR |
| PackageFile: None |
| PackageFileSize: NA |
##############################################################################
##############################################################################
###
### Running command:
###
### /Library/Frameworks/R.framework/Versions/Current/Resources/bin/R CMD build --keep-empty-dirs --no-resave-data fCI
###
##############################################################################
##############################################################################
* checking for file ‘fCI/DESCRIPTION’ ... OK
* preparing ‘fCI’:
* checking DESCRIPTION meta-information ... OK
* installing the package to build vignettes
-----------------------------------
* installing *source* package ‘fCI’ ...
** using staged installation
** R
** data
** inst
** byte-compile and prepare package for lazy loading
ERROR: lazy loading failed for package ‘fCI’
* removing ‘/private/tmp/Rtmpo5UhCs/Rinst7d93fb72f94/fCI’
-----------------------------------
ERROR: package installation failed