| Back to Multiple platform build/check report for BioC 3.12 |
|
This page was generated on 2021-05-06 12:31:03 -0400 (Thu, 06 May 2021).
|
To the developers/maintainers of the epivizrChart package: Please make sure to use the following settings in order to reproduce any error or warning you see on this page. |
| Package 561/1974 | Hostname | OS / Arch | INSTALL | BUILD | CHECK | BUILD BIN | ||||||||
| epivizrChart 1.12.0 (landing page) Hector Corrada Bravo
| malbec1 | Linux (Ubuntu 18.04.5 LTS) / x86_64 | OK | OK | OK | |||||||||
| tokay1 | Windows Server 2012 R2 Standard / x64 | OK | OK | OK | OK | |||||||||
| merida1 | macOS 10.14.6 Mojave / x86_64 | OK | OK | OK | OK | |||||||||
| Package: epivizrChart |
| Version: 1.12.0 |
| Command: rm -rf epivizrChart.buildbin-libdir && mkdir epivizrChart.buildbin-libdir && C:\Users\biocbuild\bbs-3.12-bioc\R\bin\R.exe CMD INSTALL --merge-multiarch --build --library=epivizrChart.buildbin-libdir epivizrChart_1.12.0.tar.gz |
| StartedAt: 2021-05-06 09:00:49 -0400 (Thu, 06 May 2021) |
| EndedAt: 2021-05-06 09:02:58 -0400 (Thu, 06 May 2021) |
| EllapsedTime: 129.5 seconds |
| RetCode: 0 |
| Status: OK |
| PackageFile: epivizrChart_1.12.0.zip |
| PackageFileSize: 7.476 MiB |
##############################################################################
##############################################################################
###
### Running command:
###
### rm -rf epivizrChart.buildbin-libdir && mkdir epivizrChart.buildbin-libdir && C:\Users\biocbuild\bbs-3.12-bioc\R\bin\R.exe CMD INSTALL --merge-multiarch --build --library=epivizrChart.buildbin-libdir epivizrChart_1.12.0.tar.gz
###
##############################################################################
##############################################################################
install for i386
* installing *source* package 'epivizrChart' ...
** using staged installation
** R
** data
*** moving datasets to lazyload DB
** inst
** byte-compile and prepare package for lazy loading
** help
*** installing help indices
converting help for package 'epivizrChart'
finding HTML links ... done
BlocksTrack-methods html
EpivizBlocksTrack-class html
EpivizChart-class html
EpivizChartDataMgr-class html
EpivizDataSource-class html
EpivizEnvironment-class html
EpivizGenesTrack-class html
EpivizHeatmapPlot-class html
EpivizIGVTrack-class html
EpivizLinePlot-class html
EpivizLineTrack-class html
EpivizNavigation-class html
EpivizScatterPlot-class html
EpivizStackedBlocksTrack-class html
EpivizStackedLinePlot-class html
EpivizStackedLineTrack-class html
EpivizViewComponent-class html
finding level-2 HTML links ... done
EpivizWebComponent-class html
HeatmapPlot-methods html
LinePlot-methods html
LineTrack-methods html
ScatterPlot-methods html
StackedBlocksTrack-methods html
StackedLinePlot-methods html
StackedLineTrack-methods html
append_region-methods html
bcode_eset html
cgi_gr html
chart_default_settings_colors html
dot-constructURL html
dot-initialize_chart html
dot-register_all_the_epiviz_things html
dot-settings_as_df html
epivizChart html
epivizEnv html
epivizNav html
get_available_chart_types html
get_registered_data_types html
json_parser html
json_writer html
plot-EpivizEnvironment-ANY-method html
rand_id html
sumexp html
tcga_colon_blocks html
tcga_colon_curves html
tcga_colon_expression html
** building package indices
** installing vignettes
** testing if installed package can be loaded from temporary location
** testing if installed package can be loaded from final location
** testing if installed package keeps a record of temporary installation path
install for x64
* installing *source* package 'epivizrChart' ...
** testing if installed package can be loaded
* MD5 sums
packaged installation of 'epivizrChart' as epivizrChart_1.12.0.zip
* DONE (epivizrChart)