| Back to Multiple platform build/check report for BioC 3.12 |
|
This page was generated on 2021-05-06 12:27:29 -0400 (Thu, 06 May 2021).
|
To the developers/maintainers of the epihet package: Please make sure to use the following settings in order to reproduce any error or warning you see on this page. |
| Package 557/1974 | Hostname | OS / Arch | INSTALL | BUILD | CHECK | BUILD BIN | ||||||||
| epihet 1.6.1 (landing page) Xiaowen Chen
| malbec1 | Linux (Ubuntu 18.04.5 LTS) / x86_64 | OK | OK | OK | |||||||||
| tokay1 | Windows Server 2012 R2 Standard / x64 | OK | OK | OK | OK | |||||||||
| merida1 | macOS 10.14.6 Mojave / x86_64 | OK | OK | OK | OK | |||||||||
| Package: epihet |
| Version: 1.6.1 |
| Command: /home/biocbuild/bbs-3.12-bioc/R/bin/R CMD build --keep-empty-dirs --no-resave-data epihet |
| StartedAt: 2021-05-05 18:55:36 -0400 (Wed, 05 May 2021) |
| EndedAt: 2021-05-05 18:57:36 -0400 (Wed, 05 May 2021) |
| EllapsedTime: 120.2 seconds |
| RetCode: 0 |
| Status: OK |
| PackageFile: epihet_1.6.1.tar.gz |
| PackageFileSize: 789.7 KiB |
############################################################################## ############################################################################## ### ### Running command: ### ### /home/biocbuild/bbs-3.12-bioc/R/bin/R CMD build --keep-empty-dirs --no-resave-data epihet ### ############################################################################## ############################################################################## * checking for file ‘epihet/DESCRIPTION’ ... OK * preparing ‘epihet’: * checking DESCRIPTION meta-information ... OK * installing the package to build vignettes * creating vignettes ... OK * checking for LF line-endings in source and make files and shell scripts * checking for empty or unneeded directories * looking to see if a ‘data/datalist’ file should be added * building ‘epihet_1.6.1.tar.gz’