| Back to Multiple platform build/check report for BioC 3.12 |
|
This page was generated on 2021-05-06 12:34:54 -0400 (Thu, 06 May 2021).
|
To the developers/maintainers of the ensembldb package: Please make sure to use the following settings in order to reproduce any error or warning you see on this page. |
| Package 552/1974 | Hostname | OS / Arch | INSTALL | BUILD | CHECK | BUILD BIN | ||||||||
| ensembldb 2.14.1 (landing page) Johannes Rainer
| malbec1 | Linux (Ubuntu 18.04.5 LTS) / x86_64 | OK | OK | OK | |||||||||
| tokay1 | Windows Server 2012 R2 Standard / x64 | OK | OK | OK | OK | |||||||||
| merida1 | macOS 10.14.6 Mojave / x86_64 | OK | OK | OK | OK | |||||||||
| Package: ensembldb |
| Version: 2.14.1 |
| Command: /Library/Frameworks/R.framework/Versions/Current/Resources/bin/R CMD check --install=check:ensembldb.install-out.txt --library=/Library/Frameworks/R.framework/Versions/Current/Resources/library --no-vignettes --timings ensembldb_2.14.1.tar.gz |
| StartedAt: 2021-05-06 01:29:17 -0400 (Thu, 06 May 2021) |
| EndedAt: 2021-05-06 01:39:30 -0400 (Thu, 06 May 2021) |
| EllapsedTime: 613.9 seconds |
| RetCode: 0 |
| Status: OK |
| CheckDir: ensembldb.Rcheck |
| Warnings: 0 |
##############################################################################
##############################################################################
###
### Running command:
###
### /Library/Frameworks/R.framework/Versions/Current/Resources/bin/R CMD check --install=check:ensembldb.install-out.txt --library=/Library/Frameworks/R.framework/Versions/Current/Resources/library --no-vignettes --timings ensembldb_2.14.1.tar.gz
###
##############################################################################
##############################################################################
* using log directory ‘/Users/biocbuild/bbs-3.12-bioc/meat/ensembldb.Rcheck’
* using R version 4.0.5 (2021-03-31)
* using platform: x86_64-apple-darwin17.0 (64-bit)
* using session charset: UTF-8
* using option ‘--no-vignettes’
* checking for file ‘ensembldb/DESCRIPTION’ ... OK
* checking extension type ... Package
* this is package ‘ensembldb’ version ‘2.14.1’
* checking package namespace information ... OK
* checking package dependencies ... OK
* checking if this is a source package ... OK
* checking if there is a namespace ... OK
* checking for hidden files and directories ... OK
* checking for portable file names ... OK
* checking for sufficient/correct file permissions ... OK
* checking whether package ‘ensembldb’ can be installed ... OK
* checking installed package size ... OK
* checking package directory ... OK
* checking ‘build’ directory ... OK
* checking DESCRIPTION meta-information ... OK
* checking top-level files ... OK
* checking for left-over files ... OK
* checking index information ... OK
* checking package subdirectories ... OK
* checking R files for non-ASCII characters ... OK
* checking R files for syntax errors ... OK
* checking whether the package can be loaded ... OK
* checking whether the package can be loaded with stated dependencies ... OK
* checking whether the package can be unloaded cleanly ... OK
* checking whether the namespace can be loaded with stated dependencies ... OK
* checking whether the namespace can be unloaded cleanly ... OK
* checking dependencies in R code ... OK
* checking S3 generic/method consistency ... OK
* checking replacement functions ... OK
* checking foreign function calls ... OK
* checking R code for possible problems ... OK
* checking Rd files ... OK
* checking Rd metadata ... OK
* checking Rd cross-references ... OK
* checking for missing documentation entries ... OK
* checking for code/documentation mismatches ... OK
* checking Rd \usage sections ... OK
* checking Rd contents ... OK
* checking for unstated dependencies in examples ... OK
* checking files in ‘vignettes’ ... OK
* checking examples ... OK
Examples with CPU (user + system) or elapsed time > 5s
user system elapsed
Filter-classes 3.417 2.726 8.821
EnsDb-AnnotationDbi 3.287 0.932 5.062
* checking for unstated dependencies in ‘tests’ ... OK
* checking tests ...
Running ‘testthat.R’
OK
* checking for unstated dependencies in vignettes ... OK
* checking package vignettes in ‘inst/doc’ ... OK
* checking running R code from vignettes ... SKIPPED
* checking re-building of vignette outputs ... SKIPPED
* checking PDF version of manual ... OK
* DONE
Status: OK
ensembldb.Rcheck/00install.out
############################################################################## ############################################################################## ### ### Running command: ### ### /Library/Frameworks/R.framework/Versions/Current/Resources/bin/R CMD INSTALL ensembldb ### ############################################################################## ############################################################################## * installing to library ‘/Library/Frameworks/R.framework/Versions/4.0/Resources/library’ * installing *source* package ‘ensembldb’ ... ** using staged installation ** R ** inst ** byte-compile and prepare package for lazy loading ** help *** installing help indices ** building package indices ** installing vignettes ** testing if installed package can be loaded from temporary location ** testing if installed package can be loaded from final location ** testing if installed package keeps a record of temporary installation path * DONE (ensembldb)
ensembldb.Rcheck/tests/testthat.Rout
R version 4.0.5 (2021-03-31) -- "Shake and Throw"
Copyright (C) 2021 The R Foundation for Statistical Computing
Platform: x86_64-apple-darwin17.0 (64-bit)
R is free software and comes with ABSOLUTELY NO WARRANTY.
You are welcome to redistribute it under certain conditions.
Type 'license()' or 'licence()' for distribution details.
R is a collaborative project with many contributors.
Type 'contributors()' for more information and
'citation()' on how to cite R or R packages in publications.
Type 'demo()' for some demos, 'help()' for on-line help, or
'help.start()' for an HTML browser interface to help.
Type 'q()' to quit R.
> library(testthat)
> library(ensembldb)
Loading required package: BiocGenerics
Loading required package: parallel
Attaching package: 'BiocGenerics'
The following objects are masked from 'package:parallel':
clusterApply, clusterApplyLB, clusterCall, clusterEvalQ,
clusterExport, clusterMap, parApply, parCapply, parLapply,
parLapplyLB, parRapply, parSapply, parSapplyLB
The following objects are masked from 'package:stats':
IQR, mad, sd, var, xtabs
The following objects are masked from 'package:base':
Filter, Find, Map, Position, Reduce, anyDuplicated, append,
as.data.frame, basename, cbind, colnames, dirname, do.call,
duplicated, eval, evalq, get, grep, grepl, intersect, is.unsorted,
lapply, mapply, match, mget, order, paste, pmax, pmax.int, pmin,
pmin.int, rank, rbind, rownames, sapply, setdiff, sort, table,
tapply, union, unique, unsplit, which.max, which.min
Loading required package: GenomicRanges
Loading required package: stats4
Loading required package: S4Vectors
Attaching package: 'S4Vectors'
The following object is masked from 'package:base':
expand.grid
Loading required package: IRanges
Loading required package: GenomeInfoDb
Loading required package: GenomicFeatures
Loading required package: AnnotationDbi
Loading required package: Biobase
Welcome to Bioconductor
Vignettes contain introductory material; view with
'browseVignettes()'. To cite Bioconductor, see
'citation("Biobase")', and for packages 'citation("pkgname")'.
Loading required package: AnnotationFilter
Attaching package: 'AnnotationFilter'
The following object is masked from 'package:testthat':
not
Attaching package: 'ensembldb'
The following object is masked from 'package:stats':
filter
> library(EnsDb.Hsapiens.v86)
> edb <- EnsDb.Hsapiens.v86
>
> test_check("ensembldb")
Creating package in /tmp/RtmpiwBIlR/EnsDb.Hsapiens.v75
Comparing chromosome data:
Sequence names: (180) common, (0) only in x, (0) only in y.
Sequence lengths: (180) identical, (0) different.
Done. Result: OK
Comparing gene data:
gene IDs: (4045) common, (0) only in x, (0) only in y.
Sequence names: (4045) identical, (0) different.
Gene start coordinates: (4045) identical, (0) different.
Gene end coordinates: (4045) identical, (0) different.
Gene strand: (4045) identical, (0) different.
Gene names: (132) identical, (3913) different.
Entrezgene IDs: (4045) identical, (0) different.
Gene biotypes: (4045) identical, (0) different.
Done. Result: WARN
Comparing transcript data:
transcript IDs: (4045) common, (0) only in x, (0) only in y.
Transcript start coordinates: (4045) identical, (0) different.
Transcript end coordinates: (4045) identical, (0) different.
Transcript biotypes: (4045) identical, (0) different.
Common transcripts with defined CDS: (3996) common, (0) only in x, (0) only in y.
CDS start coordinates: (3996) identical, (0) different.
CDS end coordinates: (3996) identical, (0) different.
Associated gene IDs: (4045) identical, (0) different.
Done. Result: OK
Comparing exon data:
exon IDs: (4045) common, (0) only in x, (0) only in y.
Exon start coordinates: (4045) identical, (0) different.
Exon end coordinates: (4045) identical, (0) different.
Exon index in transcript models: (4045) identical, (0) different.
Done. Result: OK
Comparing metadata:
Ensembl versions match.
Genome builds match.
All differences: <name>: <value x> != <value y>
- Creation time : Thu May 6 01:36:33 2021 != Thu May 6 01:36:19 2021
- source_file : Devosia_geojensis.ASM96941v1.32.gtf.gz != Devosia_geojensis.ASM96941v1.32.gff3.gz
Done. Result: NOTE
Comparing chromosome data:
Sequence names: (180) common, (0) only in x, (0) only in y.
Sequence lengths: (180) identical, (0) different.
Done. Result: OK
Comparing gene data:
gene IDs: (4045) common, (0) only in x, (0) only in y.
Sequence names: (4045) identical, (0) different.
Gene start coordinates: (4045) identical, (0) different.
Gene end coordinates: (4045) identical, (0) different.
Gene strand: (4045) identical, (0) different.
Gene names: (132) identical, (3913) different.
Entrezgene IDs: (4045) identical, (0) different.
Gene biotypes: (4045) identical, (0) different.
Done. Result: WARN
Comparing transcript data:
transcript IDs: (4045) common, (0) only in x, (0) only in y.
Transcript start coordinates: (4045) identical, (0) different.
Transcript end coordinates: (4045) identical, (0) different.
Transcript biotypes: (4045) identical, (0) different.
Common transcripts with defined CDS: (3996) common, (0) only in x, (0) only in y.
CDS start coordinates: (3996) identical, (0) different.
CDS end coordinates: (3996) identical, (0) different.
Associated gene IDs: (4045) identical, (0) different.
Done. Result: OK
Comparing exon data:
exon IDs: (4045) common, (0) only in x, (0) only in y.
Exon start coordinates: (4045) identical, (0) different.
Exon end coordinates: (4045) identical, (0) different.
Exon index in transcript models: (4045) identical, (0) different.
Done. Result: OK
Comparing protein data:
protein IDs: (103725) common, (0) only in x, (0) only in y.
Transcript IDs: (103725) identical, (0) different.
Protein sequence: (103725) identical, (0) different.
Done. Result: OK
══ Skipped tests ═══════════════════════════════════════════════════════════════
• empty test (3)
[ FAIL 0 | WARN 82 | SKIP 3 | PASS 1449 ]
There were 26 warnings (use warnings() to see them)
>
> proc.time()
user system elapsed
189.195 25.839 257.342
ensembldb.Rcheck/ensembldb-Ex.timings
| name | user | system | elapsed | |
| EnsDb-AnnotationDbi | 3.287 | 0.932 | 5.062 | |
| EnsDb-class | 1.743 | 0.198 | 1.949 | |
| EnsDb-exonsBy | 2.799 | 0.837 | 4.557 | |
| EnsDb-lengths | 1.279 | 0.102 | 1.384 | |
| EnsDb-seqlevels | 0.058 | 0.014 | 0.073 | |
| EnsDb-sequences | 0.014 | 0.001 | 0.014 | |
| EnsDb-utils | 0.322 | 0.005 | 0.327 | |
| EnsDb | 2.558 | 0.176 | 2.740 | |
| Filter-classes | 3.417 | 2.726 | 8.821 | |
| ProteinFunctionality | 0.100 | 0.022 | 0.122 | |
| cdsToTranscript | 2.393 | 0.050 | 2.455 | |
| convertFilter | 0.032 | 0.002 | 0.033 | |
| genomeToProtein | 2.477 | 0.036 | 2.517 | |
| genomeToTranscript | 2.007 | 0.100 | 2.142 | |
| global-filters | 0.121 | 0.005 | 0.126 | |
| hasProteinData-EnsDb-method | 0.013 | 0.001 | 0.015 | |
| listEnsDbs | 0.000 | 0.001 | 0.001 | |
| makeEnsemblDbPackage | 0.802 | 0.053 | 0.860 | |
| proteinToGenome | 3.053 | 0.084 | 3.149 | |
| proteinToTranscript | 1.108 | 0.071 | 1.184 | |
| transcriptToCds | 0.779 | 0.003 | 0.783 | |
| transcriptToGenome | 1.551 | 0.031 | 1.585 | |
| transcriptToProtein | 2.546 | 0.039 | 2.590 | |
| useMySQL-EnsDb-method | 0.014 | 0.001 | 0.014 | |