| Back to Multiple platform build/check report for BioC 3.12 | 
 | 
This page was generated on 2021-05-06 12:27:27 -0400 (Thu, 06 May 2021).
| To the developers/maintainers of the edge package: Please make sure to use the following settings in order to reproduce any error or warning you see on this page. | 
| Package 532/1974 | Hostname | OS / Arch | INSTALL | BUILD | CHECK | BUILD BIN | ||||||||
| edge 2.22.0  (landing page) John D. Storey 
 | malbec1 | Linux (Ubuntu 18.04.5 LTS) / x86_64 | OK | OK | WARNINGS |  | ||||||||
| tokay1 | Windows Server 2012 R2 Standard / x64 | OK | OK | WARNINGS | OK |  | ||||||||
| merida1 | macOS 10.14.6 Mojave / x86_64 | OK | OK | WARNINGS | OK |  | ||||||||
| Package: edge | 
| Version: 2.22.0 | 
| Command: /home/biocbuild/bbs-3.12-bioc/R/bin/R CMD build --keep-empty-dirs --no-resave-data edge | 
| StartedAt: 2021-05-05 18:48:36 -0400 (Wed, 05 May 2021) | 
| EndedAt: 2021-05-05 18:49:36 -0400 (Wed, 05 May 2021) | 
| EllapsedTime: 60.0 seconds | 
| RetCode: 0 | 
| Status: OK | 
| PackageFile: edge_2.22.0.tar.gz | 
| PackageFileSize: 1019 KiB | 
############################################################################## ############################################################################## ### ### Running command: ### ### /home/biocbuild/bbs-3.12-bioc/R/bin/R CMD build --keep-empty-dirs --no-resave-data edge ### ############################################################################## ############################################################################## * checking for file ‘edge/DESCRIPTION’ ... OK * preparing ‘edge’: * checking DESCRIPTION meta-information ... OK * cleaning src * installing the package to build vignettes * creating vignettes ... OK * cleaning src * checking for LF line-endings in source and make files and shell scripts * checking for empty or unneeded directories * building ‘edge_2.22.0.tar.gz’