| Back to Multiple platform build/check report for BioC 3.12 | 
  | 
This page was generated on 2021-05-06 12:27:20 -0400 (Thu, 06 May 2021).
| 
To the developers/maintainers of the diffuStats package: Please make sure to use the following settings in order to reproduce any error or warning you see on this page.  | 
| Package 481/1974 | Hostname | OS / Arch | INSTALL | BUILD | CHECK | BUILD BIN | ||||||||
| diffuStats 1.10.2  (landing page) Sergio Picart-Armada 
  | malbec1 | Linux (Ubuntu 18.04.5 LTS) / x86_64 | OK | OK | OK | |||||||||
| tokay1 | Windows Server 2012 R2 Standard / x64 | OK | OK | OK | OK | |||||||||
| merida1 | macOS 10.14.6 Mojave / x86_64 | OK | OK | OK | OK | |||||||||
| Package: diffuStats | 
| Version: 1.10.2 | 
| Command: /home/biocbuild/bbs-3.12-bioc/R/bin/R CMD build --keep-empty-dirs --no-resave-data diffuStats | 
| StartedAt: 2021-05-05 18:41:14 -0400 (Wed, 05 May 2021) | 
| EndedAt: 2021-05-05 18:42:17 -0400 (Wed, 05 May 2021) | 
| EllapsedTime: 62.9 seconds | 
| RetCode: 0 | 
| Status: OK | 
| PackageFile: diffuStats_1.10.2.tar.gz | 
| PackageFileSize: 1.257 MiB | 
############################################################################## ############################################################################## ### ### Running command: ### ### /home/biocbuild/bbs-3.12-bioc/R/bin/R CMD build --keep-empty-dirs --no-resave-data diffuStats ### ############################################################################## ############################################################################## * checking for file ‘diffuStats/DESCRIPTION’ ... OK * preparing ‘diffuStats’: * checking DESCRIPTION meta-information ... OK * cleaning src * installing the package to build vignettes * creating vignettes ... OK * cleaning src * checking for LF line-endings in source and make files and shell scripts * checking for empty or unneeded directories * building ‘diffuStats_1.10.2.tar.gz’