Back to Multiple platform build/check report for BioC 3.12 |
|
This page was generated on 2021-05-06 12:34:47 -0400 (Thu, 06 May 2021).
To the developers/maintainers of the derfinderHelper package: Please make sure to use the following settings in order to reproduce any error or warning you see on this page. |
Package 461/1974 | Hostname | OS / Arch | INSTALL | BUILD | CHECK | BUILD BIN | ||||||||
derfinderHelper 1.24.1 (landing page) Leonardo Collado-Torres
| malbec1 | Linux (Ubuntu 18.04.5 LTS) / x86_64 | OK | OK | OK | |||||||||
tokay1 | Windows Server 2012 R2 Standard / x64 | OK | OK | OK | OK | |||||||||
merida1 | macOS 10.14.6 Mojave / x86_64 | OK | OK | OK | OK | |||||||||
Package: derfinderHelper |
Version: 1.24.1 |
Command: rm -rf derfinderHelper.buildbin-libdir && mkdir derfinderHelper.buildbin-libdir && /Users/biocbuild/BBS/utils/build-universal.sh derfinderHelper_1.24.1.tar.gz /Library/Frameworks/R.framework/Versions/Current/Resources/bin/R derfinderHelper.buildbin-libdir |
StartedAt: 2021-05-06 08:24:48 -0400 (Thu, 06 May 2021) |
EndedAt: 2021-05-06 08:25:54 -0400 (Thu, 06 May 2021) |
EllapsedTime: 65.5 seconds |
RetCode: 0 |
Status: OK |
PackageFile: derfinderHelper_1.24.1.tgz |
PackageFileSize: 309.7 KiB |
############################################################################## ############################################################################## ### ### Running command: ### ### rm -rf derfinderHelper.buildbin-libdir && mkdir derfinderHelper.buildbin-libdir && /Users/biocbuild/BBS/utils/build-universal.sh derfinderHelper_1.24.1.tar.gz /Library/Frameworks/R.framework/Versions/Current/Resources/bin/R derfinderHelper.buildbin-libdir ### ############################################################################## ############################################################################## >>>>>>> >>>>>>> INSTALLATION WITH 'R CMD INSTALL --preclean --no-multiarch --library=derfinderHelper.buildbin-libdir derfinderHelper_1.24.1.tar.gz' >>>>>>> * installing *source* package ‘derfinderHelper’ ... ** using staged installation ** R ** inst ** byte-compile and prepare package for lazy loading ** help *** installing help indices ** building package indices ** installing vignettes ** testing if installed package can be loaded from temporary location ** testing if installed package can be loaded from final location ** testing if installed package keeps a record of temporary installation path * DONE (derfinderHelper)