| Back to Multiple platform build/check report for BioC 3.12 | 
 | 
This page was generated on 2021-05-06 12:34:44 -0400 (Thu, 06 May 2021).
| To the developers/maintainers of the dcanr package: Please make sure to use the following settings in order to reproduce any error or warning you see on this page. | 
| Package 429/1974 | Hostname | OS / Arch | INSTALL | BUILD | CHECK | BUILD BIN | ||||||||
| dcanr 1.6.0  (landing page) Dharmesh D. Bhuva 
 | malbec1 | Linux (Ubuntu 18.04.5 LTS) / x86_64 | OK | OK | OK |  | ||||||||
| tokay1 | Windows Server 2012 R2 Standard / x64 | OK | OK | OK | OK |  | ||||||||
| merida1 | macOS 10.14.6 Mojave / x86_64 | OK | OK | OK | OK |  | ||||||||
| Package: dcanr | 
| Version: 1.6.0 | 
| Command: rm -rf dcanr.buildbin-libdir && mkdir dcanr.buildbin-libdir && /Users/biocbuild/BBS/utils/build-universal.sh dcanr_1.6.0.tar.gz /Library/Frameworks/R.framework/Versions/Current/Resources/bin/R dcanr.buildbin-libdir | 
| StartedAt: 2021-05-06 08:22:19 -0400 (Thu, 06 May 2021) | 
| EndedAt: 2021-05-06 08:23:03 -0400 (Thu, 06 May 2021) | 
| EllapsedTime: 44.6 seconds | 
| RetCode: 0 | 
| Status: OK | 
| PackageFile: dcanr_1.6.0.tgz | 
| PackageFileSize: 1.72 MiB | 
############################################################################## ############################################################################## ### ### Running command: ### ### rm -rf dcanr.buildbin-libdir && mkdir dcanr.buildbin-libdir && /Users/biocbuild/BBS/utils/build-universal.sh dcanr_1.6.0.tar.gz /Library/Frameworks/R.framework/Versions/Current/Resources/bin/R dcanr.buildbin-libdir ### ############################################################################## ############################################################################## >>>>>>> >>>>>>> INSTALLATION WITH 'R CMD INSTALL --preclean --no-multiarch --library=dcanr.buildbin-libdir dcanr_1.6.0.tar.gz' >>>>>>> * installing *source* package ‘dcanr’ ... ** using staged installation It is recommended to use ‘given’ instead of ‘middle’. ** R ** data ** inst ** byte-compile and prepare package for lazy loading in method for ‘dcScore’ with signature ‘"Matrix","ANY","ANY"’: no definition for class “Matrix” in method for ‘dcScore’ with signature ‘"ExpressionSet","ANY","ANY"’: no definition for class “ExpressionSet” in method for ‘dcScore’ with signature ‘"SummarizedExperiment","ANY","ANY"’: no definition for class “SummarizedExperiment” in method for ‘dcScore’ with signature ‘"DGEList","ANY","ANY"’: no definition for class “DGEList” ** help *** installing help indices ** building package indices ** installing vignettes ** testing if installed package can be loaded from temporary location ** testing if installed package can be loaded from final location ** testing if installed package keeps a record of temporary installation path * DONE (dcanr)