| Back to Multiple platform build/check report for BioC 3.12 |
|
This page was generated on 2021-05-06 12:30:34 -0400 (Thu, 06 May 2021).
|
To the developers/maintainers of the cytomapper package: Please make sure to use the following settings in order to reproduce any error or warning you see on this page. |
| Package 417/1974 | Hostname | OS / Arch | INSTALL | BUILD | CHECK | BUILD BIN | ||||||||
| cytomapper 1.2.1 (landing page) Nils Eling
| malbec1 | Linux (Ubuntu 18.04.5 LTS) / x86_64 | OK | OK | OK | |||||||||
| tokay1 | Windows Server 2012 R2 Standard / x64 | OK | OK | OK | OK | |||||||||
| merida1 | macOS 10.14.6 Mojave / x86_64 | OK | OK | OK | OK | |||||||||
| Package: cytomapper |
| Version: 1.2.1 |
| Command: rm -rf cytomapper.buildbin-libdir && mkdir cytomapper.buildbin-libdir && C:\Users\biocbuild\bbs-3.12-bioc\R\bin\R.exe --arch x64 CMD INSTALL --no-multiarch --build --library=cytomapper.buildbin-libdir cytomapper_1.2.1.tar.gz |
| StartedAt: 2021-05-06 08:50:50 -0400 (Thu, 06 May 2021) |
| EndedAt: 2021-05-06 08:51:35 -0400 (Thu, 06 May 2021) |
| EllapsedTime: 45.4 seconds |
| RetCode: 0 |
| Status: OK |
| PackageFile: cytomapper_1.2.1.zip |
| PackageFileSize: 4.403 MiB |
##############################################################################
##############################################################################
###
### Running command:
###
### rm -rf cytomapper.buildbin-libdir && mkdir cytomapper.buildbin-libdir && C:\Users\biocbuild\bbs-3.12-bioc\R\bin\R.exe --arch x64 CMD INSTALL --no-multiarch --build --library=cytomapper.buildbin-libdir cytomapper_1.2.1.tar.gz
###
##############################################################################
##############################################################################
* installing *source* package 'cytomapper' ...
** using staged installation
** R
** data
** inst
** byte-compile and prepare package for lazy loading
** help
*** installing help indices
converting help for package 'cytomapper'
finding HTML links ... done
CytoImageList-manipulation html
finding level-2 HTML links ... done
CytoImageList-naming html
CytoImageList-subsetting html
CytoImageList html
cytomapperShiny html
loadImages html
pancreasImages html
pancreasMasks html
pancreasSCE html
plotCells html
plotPixels html
plotting-param html
** building package indices
** installing vignettes
** testing if installed package can be loaded from temporary location
** testing if installed package can be loaded from final location
** testing if installed package keeps a record of temporary installation path
* MD5 sums
packaged installation of 'cytomapper' as cytomapper_1.2.1.zip
* DONE (cytomapper)