| Back to Multiple platform build/check report for BioC 3.12 | 
  | 
This page was generated on 2021-05-06 12:30:34 -0400 (Thu, 06 May 2021).
| 
To the developers/maintainers of the customCMPdb package: Please make sure to use the following settings in order to reproduce any error or warning you see on this page.  | 
| Package 410/1974 | Hostname | OS / Arch | INSTALL | BUILD | CHECK | BUILD BIN | ||||||||
| customCMPdb 1.0.0  (landing page) Yuzhu Duan 
  | malbec1 | Linux (Ubuntu 18.04.5 LTS) / x86_64 | OK | OK | OK | |||||||||
| tokay1 | Windows Server 2012 R2 Standard / x64 | OK | OK | OK | OK | |||||||||
| merida1 | macOS 10.14.6 Mojave / x86_64 | OK | OK | OK | OK | |||||||||
| Package: customCMPdb | 
| Version: 1.0.0 | 
| Command: rm -rf customCMPdb.buildbin-libdir && mkdir customCMPdb.buildbin-libdir && C:\Users\biocbuild\bbs-3.12-bioc\R\bin\R.exe CMD INSTALL --merge-multiarch --build --library=customCMPdb.buildbin-libdir customCMPdb_1.0.0.tar.gz | 
| StartedAt: 2021-05-06 08:50:23 -0400 (Thu, 06 May 2021) | 
| EndedAt: 2021-05-06 08:50:56 -0400 (Thu, 06 May 2021) | 
| EllapsedTime: 32.6 seconds | 
| RetCode: 0 | 
| Status: OK | 
| PackageFile: customCMPdb_1.0.0.zip | 
| PackageFileSize: 680.3 KiB | 
##############################################################################
##############################################################################
###
### Running command:
###
###   rm -rf customCMPdb.buildbin-libdir && mkdir customCMPdb.buildbin-libdir && C:\Users\biocbuild\bbs-3.12-bioc\R\bin\R.exe CMD INSTALL --merge-multiarch --build --library=customCMPdb.buildbin-libdir customCMPdb_1.0.0.tar.gz
###
##############################################################################
##############################################################################
install for i386
* installing *source* package 'customCMPdb' ...
** using staged installation
** R
** inst
** byte-compile and prepare package for lazy loading
** help
*** installing help indices
  converting help for package 'customCMPdb'
    finding HTML links ... done
    buildCMAPdb                             html  
    buildDrugAgeDB                          html  
    customAnnot                             html  
    customCMPdb-package                     html  
    dbxml2df                                html  
    df2SQLite                               html  
    processDrugage                          html  
    queryAnnotDB                            html  
** building package indices
** installing vignettes
** testing if installed package can be loaded from temporary location
** testing if installed package can be loaded from final location
** testing if installed package keeps a record of temporary installation path
install for x64
* installing *source* package 'customCMPdb' ...
** testing if installed package can be loaded
* MD5 sums
packaged installation of 'customCMPdb' as customCMPdb_1.0.0.zip
* DONE (customCMPdb)