| Back to Multiple platform build/check report for BioC 3.12 |
|
This page was generated on 2021-05-06 12:27:16 -0400 (Thu, 06 May 2021).
|
To the developers/maintainers of the csaw package: Please make sure to use the following settings in order to reproduce any error or warning you see on this page. |
| Package 402/1974 | Hostname | OS / Arch | INSTALL | BUILD | CHECK | BUILD BIN | ||||||||
| csaw 1.24.3 (landing page) Aaron Lun
| malbec1 | Linux (Ubuntu 18.04.5 LTS) / x86_64 | OK | OK | OK | |||||||||
| tokay1 | Windows Server 2012 R2 Standard / x64 | OK | OK | OK | OK | |||||||||
| merida1 | macOS 10.14.6 Mojave / x86_64 | OK | OK | OK | OK | |||||||||
| Package: csaw |
| Version: 1.24.3 |
| Command: /home/biocbuild/bbs-3.12-bioc/R/bin/R CMD INSTALL csaw |
| StartedAt: 2021-05-05 16:40:06 -0400 (Wed, 05 May 2021) |
| EndedAt: 2021-05-05 16:42:13 -0400 (Wed, 05 May 2021) |
| EllapsedTime: 126.2 seconds |
| RetCode: 0 |
| Status: OK |
##############################################################################
##############################################################################
###
### Running command:
###
### /home/biocbuild/bbs-3.12-bioc/R/bin/R CMD INSTALL csaw
###
##############################################################################
##############################################################################
* installing to library ‘/home/biocbuild/bbs-3.12-bioc/R/library’
* installing *source* package ‘csaw’ ...
** using staged installation
** libs
g++ -std=gnu++11 -I"/home/biocbuild/bbs-3.12-bioc/R/include" -DNDEBUG -D_FILE_OFFSET_BITS=64 -I'/home/biocbuild/bbs-3.12-bioc/R/library/Rhtslib/include' -I'/home/biocbuild/bbs-3.12-bioc/R/library/zlibbioc/include' -I'/home/biocbuild/bbs-3.12-bioc/R/library/Rcpp/include' -I/usr/local/include -fpic -g -O2 -Wall -c annotator.cpp -o annotator.o
annotator.cpp: In function ‘SEXPREC* annotate_overlaps(SEXP, SEXP, SEXP, SEXP, SEXP, SEXP, SEXP, SEXP)’:
annotator.cpp:47:24: warning: comparison between signed and unsigned integer expressions [-Wsign-compare]
while (counter < nolaps && query[counter]==curreg) {
~~~~~~~~^~~~~~~~
g++ -std=gnu++11 -I"/home/biocbuild/bbs-3.12-bioc/R/include" -DNDEBUG -D_FILE_OFFSET_BITS=64 -I'/home/biocbuild/bbs-3.12-bioc/R/library/Rhtslib/include' -I'/home/biocbuild/bbs-3.12-bioc/R/library/zlibbioc/include' -I'/home/biocbuild/bbs-3.12-bioc/R/library/Rcpp/include' -I/usr/local/include -fpic -g -O2 -Wall -c bam_utils.cpp -o bam_utils.o
g++ -std=gnu++11 -I"/home/biocbuild/bbs-3.12-bioc/R/include" -DNDEBUG -D_FILE_OFFSET_BITS=64 -I'/home/biocbuild/bbs-3.12-bioc/R/library/Rhtslib/include' -I'/home/biocbuild/bbs-3.12-bioc/R/library/zlibbioc/include' -I'/home/biocbuild/bbs-3.12-bioc/R/library/Rcpp/include' -I/usr/local/include -fpic -g -O2 -Wall -c best_in_cluster.cpp -o best_in_cluster.o
best_in_cluster.cpp: In function ‘SEXPREC* best_in_cluster(SEXP, SEXP, SEXP)’:
best_in_cluster.cpp:11:10: warning: comparison between signed and unsigned integer expressions [-Wsign-compare]
if (nwin!=clustids.size() || nwin!=winweight.size()) {
~~~~^~~~~~~~~~~~~~~~~
best_in_cluster.cpp:11:35: warning: comparison between signed and unsigned integer expressions [-Wsign-compare]
if (nwin!=clustids.size() || nwin!=winweight.size()) {
~~~~^~~~~~~~~~~~~~~~~~
g++ -std=gnu++11 -I"/home/biocbuild/bbs-3.12-bioc/R/include" -DNDEBUG -D_FILE_OFFSET_BITS=64 -I'/home/biocbuild/bbs-3.12-bioc/R/library/Rhtslib/include' -I'/home/biocbuild/bbs-3.12-bioc/R/library/zlibbioc/include' -I'/home/biocbuild/bbs-3.12-bioc/R/library/Rcpp/include' -I/usr/local/include -fpic -g -O2 -Wall -c check_bimodality.cpp -o check_bimodality.o
g++ -std=gnu++11 -I"/home/biocbuild/bbs-3.12-bioc/R/include" -DNDEBUG -D_FILE_OFFSET_BITS=64 -I'/home/biocbuild/bbs-3.12-bioc/R/library/Rhtslib/include' -I'/home/biocbuild/bbs-3.12-bioc/R/library/zlibbioc/include' -I'/home/biocbuild/bbs-3.12-bioc/R/library/Rcpp/include' -I/usr/local/include -fpic -g -O2 -Wall -c correlate_reads.cpp -o correlate_reads.o
g++ -std=gnu++11 -I"/home/biocbuild/bbs-3.12-bioc/R/include" -DNDEBUG -D_FILE_OFFSET_BITS=64 -I'/home/biocbuild/bbs-3.12-bioc/R/library/Rhtslib/include' -I'/home/biocbuild/bbs-3.12-bioc/R/library/zlibbioc/include' -I'/home/biocbuild/bbs-3.12-bioc/R/library/Rcpp/include' -I/usr/local/include -fpic -g -O2 -Wall -c find_maxima.cpp -o find_maxima.o
g++ -std=gnu++11 -I"/home/biocbuild/bbs-3.12-bioc/R/include" -DNDEBUG -D_FILE_OFFSET_BITS=64 -I'/home/biocbuild/bbs-3.12-bioc/R/library/Rhtslib/include' -I'/home/biocbuild/bbs-3.12-bioc/R/library/zlibbioc/include' -I'/home/biocbuild/bbs-3.12-bioc/R/library/Rcpp/include' -I/usr/local/include -fpic -g -O2 -Wall -c get_cluster_stats.cpp -o get_cluster_stats.o
get_cluster_stats.cpp: In instantiation of ‘SEXPREC* get_cluster_stats_internal(SEXP, SEXP, SEXP, SEXP, SEXP, PREP&) [with PREP = SimesPreparer; SEXP = SEXPREC*]’:
get_cluster_stats.cpp:266:80: required from here
get_cluster_stats.cpp:172:11: warning: comparison between signed and unsigned integer expressions [-Wsign-compare]
if (nwin!=current.size()) {
~~~~^~~~~~~~~~~~~~~~
get_cluster_stats.cpp:183:23: warning: comparison between signed and unsigned integer expressions [-Wsign-compare]
if (clustid.size()!=nwin) {
~~~~~~~~~~~~~~^~~~~~
get_cluster_stats.cpp:188:10: warning: comparison between signed and unsigned integer expressions [-Wsign-compare]
if (nwin!=winweight.size()) {
~~~~^~~~~~~~~~~~~~~~~~
get_cluster_stats.cpp: In instantiation of ‘SEXPREC* get_cluster_stats_internal(SEXP, SEXP, SEXP, SEXP, SEXP, PREP&) [with PREP = HolmPreparer; SEXP = SEXPREC*]’:
get_cluster_stats.cpp:276:80: required from here
get_cluster_stats.cpp:172:11: warning: comparison between signed and unsigned integer expressions [-Wsign-compare]
if (nwin!=current.size()) {
~~~~^~~~~~~~~~~~~~~~
get_cluster_stats.cpp:183:23: warning: comparison between signed and unsigned integer expressions [-Wsign-compare]
if (clustid.size()!=nwin) {
~~~~~~~~~~~~~~^~~~~~
get_cluster_stats.cpp:188:10: warning: comparison between signed and unsigned integer expressions [-Wsign-compare]
if (nwin!=winweight.size()) {
~~~~^~~~~~~~~~~~~~~~~~
get_cluster_stats.cpp: In instantiation of ‘SEXPREC* get_cluster_stats_internal(SEXP, SEXP, SEXP, SEXP, SEXP, PREP&) [with PREP = MaxedPreparer; SEXP = SEXPREC*]’:
get_cluster_stats.cpp:283:80: required from here
get_cluster_stats.cpp:172:11: warning: comparison between signed and unsigned integer expressions [-Wsign-compare]
if (nwin!=current.size()) {
~~~~^~~~~~~~~~~~~~~~
get_cluster_stats.cpp:183:23: warning: comparison between signed and unsigned integer expressions [-Wsign-compare]
if (clustid.size()!=nwin) {
~~~~~~~~~~~~~~^~~~~~
get_cluster_stats.cpp:188:10: warning: comparison between signed and unsigned integer expressions [-Wsign-compare]
if (nwin!=winweight.size()) {
~~~~^~~~~~~~~~~~~~~~~~
g++ -std=gnu++11 -I"/home/biocbuild/bbs-3.12-bioc/R/include" -DNDEBUG -D_FILE_OFFSET_BITS=64 -I'/home/biocbuild/bbs-3.12-bioc/R/library/Rhtslib/include' -I'/home/biocbuild/bbs-3.12-bioc/R/library/zlibbioc/include' -I'/home/biocbuild/bbs-3.12-bioc/R/library/Rcpp/include' -I/usr/local/include -fpic -g -O2 -Wall -c get_profile.cpp -o get_profile.o
g++ -std=gnu++11 -I"/home/biocbuild/bbs-3.12-bioc/R/include" -DNDEBUG -D_FILE_OFFSET_BITS=64 -I'/home/biocbuild/bbs-3.12-bioc/R/library/Rhtslib/include' -I'/home/biocbuild/bbs-3.12-bioc/R/library/zlibbioc/include' -I'/home/biocbuild/bbs-3.12-bioc/R/library/Rcpp/include' -I/usr/local/include -fpic -g -O2 -Wall -c get_rle_counts.cpp -o get_rle_counts.o
g++ -std=gnu++11 -I"/home/biocbuild/bbs-3.12-bioc/R/include" -DNDEBUG -D_FILE_OFFSET_BITS=64 -I'/home/biocbuild/bbs-3.12-bioc/R/library/Rhtslib/include' -I'/home/biocbuild/bbs-3.12-bioc/R/library/zlibbioc/include' -I'/home/biocbuild/bbs-3.12-bioc/R/library/Rcpp/include' -I/usr/local/include -fpic -g -O2 -Wall -c init.cpp -o init.o
g++ -std=gnu++11 -I"/home/biocbuild/bbs-3.12-bioc/R/include" -DNDEBUG -D_FILE_OFFSET_BITS=64 -I'/home/biocbuild/bbs-3.12-bioc/R/library/Rhtslib/include' -I'/home/biocbuild/bbs-3.12-bioc/R/library/zlibbioc/include' -I'/home/biocbuild/bbs-3.12-bioc/R/library/Rcpp/include' -I/usr/local/include -fpic -g -O2 -Wall -c intersector.cpp -o intersector.o
intersector.cpp: In constructor ‘intersector::intersector(SEXP, SEXP)’:
intersector.cpp:8:10: warning: comparison between signed and unsigned integer expressions [-Wsign-compare]
if (N!=elements.size()) {
~^~~~~~~~~~~~~~~~~
intersector.cpp:32:36: warning: comparison between signed and unsigned integer expressions [-Wsign-compare]
if (current < 0 || current >= nelements) {
~~~~~~~~^~~~~~~~~~~~
g++ -std=gnu++11 -I"/home/biocbuild/bbs-3.12-bioc/R/include" -DNDEBUG -D_FILE_OFFSET_BITS=64 -I'/home/biocbuild/bbs-3.12-bioc/R/library/Rhtslib/include' -I'/home/biocbuild/bbs-3.12-bioc/R/library/zlibbioc/include' -I'/home/biocbuild/bbs-3.12-bioc/R/library/Rcpp/include' -I/usr/local/include -fpic -g -O2 -Wall -c merge_windows.cpp -o merge_windows.o
g++ -std=gnu++11 -I"/home/biocbuild/bbs-3.12-bioc/R/include" -DNDEBUG -D_FILE_OFFSET_BITS=64 -I'/home/biocbuild/bbs-3.12-bioc/R/library/Rhtslib/include' -I'/home/biocbuild/bbs-3.12-bioc/R/library/zlibbioc/include' -I'/home/biocbuild/bbs-3.12-bioc/R/library/Rcpp/include' -I/usr/local/include -fpic -g -O2 -Wall -c pair_reads.cpp -o pair_reads.o
g++ -std=gnu++11 -I"/home/biocbuild/bbs-3.12-bioc/R/include" -DNDEBUG -D_FILE_OFFSET_BITS=64 -I'/home/biocbuild/bbs-3.12-bioc/R/library/Rhtslib/include' -I'/home/biocbuild/bbs-3.12-bioc/R/library/zlibbioc/include' -I'/home/biocbuild/bbs-3.12-bioc/R/library/Rcpp/include' -I/usr/local/include -fpic -g -O2 -Wall -c single_reads.cpp -o single_reads.o
g++ -std=gnu++11 -I"/home/biocbuild/bbs-3.12-bioc/R/include" -DNDEBUG -D_FILE_OFFSET_BITS=64 -I'/home/biocbuild/bbs-3.12-bioc/R/library/Rhtslib/include' -I'/home/biocbuild/bbs-3.12-bioc/R/library/zlibbioc/include' -I'/home/biocbuild/bbs-3.12-bioc/R/library/Rcpp/include' -I/usr/local/include -fpic -g -O2 -Wall -c utils.cpp -o utils.o
g++ -std=gnu++11 -shared -L/home/biocbuild/bbs-3.12-bioc/R/lib -L/usr/local/lib -o csaw.so annotator.o bam_utils.o best_in_cluster.o check_bimodality.o correlate_reads.o find_maxima.o get_cluster_stats.o get_profile.o get_rle_counts.o init.o intersector.o merge_windows.o pair_reads.o single_reads.o utils.o /home/biocbuild/bbs-3.12-bioc/R/library/Rhtslib/usrlib/libhts.a -lcurl -L/home/biocbuild/bbs-3.12-bioc/R/lib -lR
installing to /home/biocbuild/bbs-3.12-bioc/R/library/00LOCK-csaw/00new/csaw/libs
** R
** inst
** byte-compile and prepare package for lazy loading
** help
*** installing help indices
** building package indices
** installing vignettes
** testing if installed package can be loaded from temporary location
** checking absolute paths in shared objects and dynamic libraries
** testing if installed package can be loaded from final location
** testing if installed package keeps a record of temporary installation path
* DONE (csaw)