| Back to Multiple platform build/check report for BioC 3.12 | 
 | 
This page was generated on 2021-05-06 12:30:28 -0400 (Thu, 06 May 2021).
| To the developers/maintainers of the compEpiTools package: Please make sure to use the following settings in order to reproduce any error or warning you see on this page. | 
| Package 360/1974 | Hostname | OS / Arch | INSTALL | BUILD | CHECK | BUILD BIN | ||||||||
| compEpiTools 1.24.0  (landing page) Kamal Kishore 
 | malbec1 | Linux (Ubuntu 18.04.5 LTS) / x86_64 | OK | OK | OK |  | ||||||||
| tokay1 | Windows Server 2012 R2 Standard / x64 | OK | OK | OK | OK |  | ||||||||
| merida1 | macOS 10.14.6 Mojave / x86_64 | OK | OK | OK | OK |  | ||||||||
| Package: compEpiTools | 
| Version: 1.24.0 | 
| Command: C:\cygwin\bin\curl.exe -O http://172.29.0.3/BBS/3.12/bioc/src/contrib/compEpiTools_1.24.0.tar.gz && rm -rf compEpiTools.buildbin-libdir && mkdir compEpiTools.buildbin-libdir && C:\Users\biocbuild\bbs-3.12-bioc\R\bin\R.exe CMD INSTALL --merge-multiarch --build --library=compEpiTools.buildbin-libdir compEpiTools_1.24.0.tar.gz && C:\Users\biocbuild\bbs-3.12-bioc\R\bin\R.exe CMD INSTALL compEpiTools_1.24.0.zip && rm compEpiTools_1.24.0.tar.gz compEpiTools_1.24.0.zip | 
| StartedAt: 2021-05-05 18:41:20 -0400 (Wed, 05 May 2021) | 
| EndedAt: 2021-05-05 18:43:20 -0400 (Wed, 05 May 2021) | 
| EllapsedTime: 120.2 seconds | 
| RetCode: 0 | 
| Status: OK | 
##############################################################################
##############################################################################
###
### Running command:
###
###   C:\cygwin\bin\curl.exe -O http://172.29.0.3/BBS/3.12/bioc/src/contrib/compEpiTools_1.24.0.tar.gz && rm -rf compEpiTools.buildbin-libdir && mkdir compEpiTools.buildbin-libdir && C:\Users\biocbuild\bbs-3.12-bioc\R\bin\R.exe CMD INSTALL --merge-multiarch --build --library=compEpiTools.buildbin-libdir compEpiTools_1.24.0.tar.gz && C:\Users\biocbuild\bbs-3.12-bioc\R\bin\R.exe CMD INSTALL compEpiTools_1.24.0.zip && rm compEpiTools_1.24.0.tar.gz compEpiTools_1.24.0.zip
###
##############################################################################
##############################################################################
  % Total    % Received % Xferd  Average Speed   Time    Time     Time  Current
                                 Dload  Upload   Total   Spent    Left  Speed
  0     0    0     0    0     0      0      0 --:--:-- --:--:-- --:--:--     0
100 2066k  100 2066k    0     0  36.5M      0 --:--:-- --:--:-- --:--:-- 37.3M
install for i386
* installing *source* package 'compEpiTools' ...
** using staged installation
** R
** inst
** byte-compile and prepare package for lazy loading
groupGOTerms: 	GOBPTerm, GOMFTerm, GOCCTerm environments built.
** help
*** installing help indices
  converting help for package 'compEpiTools'
    finding HTML links ... done
    GR2fasta-methods                        html  
    GRanges2ucsc-methods                    html  
    GRangesInPromoters-methods              html  
    GRannotate-methods                      html  
    GRannotateSimple                        html  
    GRbaseCoverage-methods                  html  
    GRcoverage-methods                      html  
    GRcoverageSummit-methods                html  
    GRenrichment-methods                    html  
    GRmidpoint-methods                      html  
    GRsetwidth                              html  
    TSS                                     html  
    compEpiTools-package                    html  
    countOverlapsInBins-methods             html  
    distanceFromTSS-methods                 html  
    enhancers                               html  
    findLncRNA                              html  
    getPromoterClass-methods                html  
    finding level-2 HTML links ... done
    heatmapData                             html  
    heatmapPlot                             html  
    makeGtfFromDb                           html  
    matchEnhancers                          html  
    overlapOfGRanges-methods                html  
    palette2d                               html  
    plotStallingIndex                       html  
    simplifyGOterms                         html  
    stallingIndex                           html  
    topGOres                                html  
    ucsc2GRanges                            html  
    unionMaxScore-methods                   html  
** building package indices
** installing vignettes
** testing if installed package can be loaded from temporary location
groupGOTerms: 	GOBPTerm, GOMFTerm, GOCCTerm environments built.
** testing if installed package can be loaded from final location
groupGOTerms: 	GOBPTerm, GOMFTerm, GOCCTerm environments built.
** testing if installed package keeps a record of temporary installation path
install for x64
* installing *source* package 'compEpiTools' ...
** testing if installed package can be loaded
groupGOTerms: 	GOBPTerm, GOMFTerm, GOCCTerm environments built.
* MD5 sums
packaged installation of 'compEpiTools' as compEpiTools_1.24.0.zip
* DONE (compEpiTools)
* installing to library 'C:/Users/biocbuild/bbs-3.12-bioc/R/library'
package 'compEpiTools' successfully unpacked and MD5 sums checked