| Back to Multiple platform build/check report for BioC 3.12 |
|
This page was generated on 2021-05-06 12:30:18 -0400 (Thu, 06 May 2021).
|
To the developers/maintainers of the clstutils package: Please make sure to use the following settings in order to reproduce any error or warning you see on this page. |
| Package 318/1974 | Hostname | OS / Arch | INSTALL | BUILD | CHECK | BUILD BIN | ||||||||
| clstutils 1.38.0 (landing page) Noah Hoffman
| malbec1 | Linux (Ubuntu 18.04.5 LTS) / x86_64 | OK | OK | WARNINGS | |||||||||
| tokay1 | Windows Server 2012 R2 Standard / x64 | OK | OK | WARNINGS | OK | |||||||||
| merida1 | macOS 10.14.6 Mojave / x86_64 | OK | OK | WARNINGS | OK | |||||||||
| Package: clstutils |
| Version: 1.38.0 |
| Command: rm -rf clstutils.buildbin-libdir && mkdir clstutils.buildbin-libdir && C:\Users\biocbuild\bbs-3.12-bioc\R\bin\R.exe CMD INSTALL --merge-multiarch --build --library=clstutils.buildbin-libdir clstutils_1.38.0.tar.gz |
| StartedAt: 2021-05-06 08:44:02 -0400 (Thu, 06 May 2021) |
| EndedAt: 2021-05-06 08:44:54 -0400 (Thu, 06 May 2021) |
| EllapsedTime: 51.4 seconds |
| RetCode: 0 |
| Status: OK |
| PackageFile: clstutils_1.38.0.zip |
| PackageFileSize: 2.625 MiB |
##############################################################################
##############################################################################
###
### Running command:
###
### rm -rf clstutils.buildbin-libdir && mkdir clstutils.buildbin-libdir && C:\Users\biocbuild\bbs-3.12-bioc\R\bin\R.exe CMD INSTALL --merge-multiarch --build --library=clstutils.buildbin-libdir clstutils_1.38.0.tar.gz
###
##############################################################################
##############################################################################
install for i386
* installing *source* package 'clstutils' ...
** using staged installation
** R
** data
*** moving datasets to lazyload DB
** inst
** byte-compile and prepare package for lazy loading
** help
*** installing help indices
converting help for package 'clstutils'
finding HTML links ... done
classifyPlacements html
Rd warning: C:/Users/biocbuild/bbs-3.12-bioc/tmpdir/Rtmpsjvpfs/R.INSTALL28ec3024fe1/clstutils/man/classifyPlacements.Rd:31: file link 'classifyIter' in package 'clst' does not exist and so has been treated as a topic
clstutils-package html
finding level-2 HTML links ... done
findOutliers html
maxDists html
prettyTree html
refpkgContents html
seqdat html
seqs html
taxonomyFromRefpkg html
treeDists html
** building package indices
** installing vignettes
** testing if installed package can be loaded from temporary location
** testing if installed package can be loaded from final location
** testing if installed package keeps a record of temporary installation path
install for x64
* installing *source* package 'clstutils' ...
** testing if installed package can be loaded
* MD5 sums
packaged installation of 'clstutils' as clstutils_1.38.0.zip
* DONE (clstutils)