| Back to Multiple platform build/check report for BioC 3.12 | 
 | 
This page was generated on 2021-05-06 12:30:17 -0400 (Thu, 06 May 2021).
| To the developers/maintainers of the clst package: Please make sure to use the following settings in order to reproduce any error or warning you see on this page. | 
| Package 317/1974 | Hostname | OS / Arch | INSTALL | BUILD | CHECK | BUILD BIN | ||||||||
| clst 1.38.0  (landing page) Noah Hoffman 
 | malbec1 | Linux (Ubuntu 18.04.5 LTS) / x86_64 | OK | OK | WARNINGS |  | ||||||||
| tokay1 | Windows Server 2012 R2 Standard / x64 | OK | OK | WARNINGS | OK |  | ||||||||
| merida1 | macOS 10.14.6 Mojave / x86_64 | OK | OK | WARNINGS | OK |  | ||||||||
| Package: clst | 
| Version: 1.38.0 | 
| Command: chmod a+r clst -R && C:\Users\biocbuild\bbs-3.12-bioc\R\bin\R.exe CMD build --keep-empty-dirs --no-resave-data clst | 
| StartedAt: 2021-05-05 20:14:57 -0400 (Wed, 05 May 2021) | 
| EndedAt: 2021-05-05 20:15:14 -0400 (Wed, 05 May 2021) | 
| EllapsedTime: 16.9 seconds | 
| RetCode: 0 | 
| Status: OK | 
| PackageFile: clst_1.38.0.tar.gz | 
| PackageFileSize: 977.6 KiB | 
############################################################################## ############################################################################## ### ### Running command: ### ### chmod a+r clst -R && C:\Users\biocbuild\bbs-3.12-bioc\R\bin\R.exe CMD build --keep-empty-dirs --no-resave-data clst ### ############################################################################## ############################################################################## * checking for file 'clst/DESCRIPTION' ... OK * preparing 'clst': * checking DESCRIPTION meta-information ... OK * installing the package to build vignettes * creating vignettes ... OK * checking for LF line-endings in source and make files and shell scripts * checking for empty or unneeded directories * building 'clst_1.38.0.tar.gz'