| Back to Multiple platform build/check report for BioC 3.12 | 
 | 
This page was generated on 2021-05-06 12:34:33 -0400 (Thu, 06 May 2021).
| To the developers/maintainers of the cliqueMS package: Please make sure to use the following settings in order to reproduce any error or warning you see on this page. | 
| Package 313/1974 | Hostname | OS / Arch | INSTALL | BUILD | CHECK | BUILD BIN | ||||||||
| cliqueMS 1.4.0  (landing page) Oriol Senan Campos 
 | malbec1 | Linux (Ubuntu 18.04.5 LTS) / x86_64 | OK | OK | OK |  | ||||||||
| tokay1 | Windows Server 2012 R2 Standard / x64 | OK | OK | OK | OK |  | ||||||||
| merida1 | macOS 10.14.6 Mojave / x86_64 | OK | OK | OK | OK |  | ||||||||
| Package: cliqueMS | 
| Version: 1.4.0 | 
| Command: /Library/Frameworks/R.framework/Versions/Current/Resources/bin/R CMD build --keep-empty-dirs --no-resave-data cliqueMS | 
| StartedAt: 2021-05-05 18:44:33 -0400 (Wed, 05 May 2021) | 
| EndedAt: 2021-05-05 18:46:33 -0400 (Wed, 05 May 2021) | 
| EllapsedTime: 119.2 seconds | 
| RetCode: 0 | 
| Status: OK | 
| PackageFile: cliqueMS_1.4.0.tar.gz | 
| PackageFileSize: 555.3 KiB | 
############################################################################## ############################################################################## ### ### Running command: ### ### /Library/Frameworks/R.framework/Versions/Current/Resources/bin/R CMD build --keep-empty-dirs --no-resave-data cliqueMS ### ############################################################################## ############################################################################## * checking for file ‘cliqueMS/DESCRIPTION’ ... OK * preparing ‘cliqueMS’: * checking DESCRIPTION meta-information ... OK * cleaning src * installing the package to build vignettes * creating vignettes ... OK * cleaning src * checking for LF line-endings in source and make files and shell scripts * checking for empty or unneeded directories * looking to see if a ‘data/datalist’ file should be added * building ‘cliqueMS_1.4.0.tar.gz’