| Back to Multiple platform build/check report for BioC 3.12 | 
 | 
This page was generated on 2021-05-06 12:30:15 -0400 (Thu, 06 May 2021).
| To the developers/maintainers of the chromswitch package: Please make sure to use the following settings in order to reproduce any error or warning you see on this page. | 
| Package 300/1974 | Hostname | OS / Arch | INSTALL | BUILD | CHECK | BUILD BIN | ||||||||
| chromswitch 1.12.0  (landing page) Selin Jessa 
 | malbec1 | Linux (Ubuntu 18.04.5 LTS) / x86_64 | OK | OK | OK |  | ||||||||
| tokay1 | Windows Server 2012 R2 Standard / x64 | OK | OK | OK | OK |  | ||||||||
| merida1 | macOS 10.14.6 Mojave / x86_64 | OK | OK | OK | OK |  | ||||||||
| Package: chromswitch | 
| Version: 1.12.0 | 
| Command: chmod a+r chromswitch -R && C:\Users\biocbuild\bbs-3.12-bioc\R\bin\R.exe CMD build --keep-empty-dirs --no-resave-data chromswitch | 
| StartedAt: 2021-05-05 20:12:10 -0400 (Wed, 05 May 2021) | 
| EndedAt: 2021-05-05 20:13:20 -0400 (Wed, 05 May 2021) | 
| EllapsedTime: 69.9 seconds | 
| RetCode: 0 | 
| Status: OK | 
| PackageFile: chromswitch_1.12.0.tar.gz | 
| PackageFileSize: 2.281 MiB | 
############################################################################## ############################################################################## ### ### Running command: ### ### chmod a+r chromswitch -R && C:\Users\biocbuild\bbs-3.12-bioc\R\bin\R.exe CMD build --keep-empty-dirs --no-resave-data chromswitch ### ############################################################################## ############################################################################## * checking for file 'chromswitch/DESCRIPTION' ... OK * preparing 'chromswitch': * checking DESCRIPTION meta-information ... OK * installing the package to build vignettes * creating vignettes ... OK * checking for LF line-endings in source and make files and shell scripts * checking for empty or unneeded directories * building 'chromswitch_1.12.0.tar.gz'