| Back to Multiple platform build/check report for BioC 3.12 | 
 | 
This page was generated on 2021-05-06 12:34:29 -0400 (Thu, 06 May 2021).
| To the developers/maintainers of the cBioPortalData package: Please make sure to use the following settings in order to reproduce any error or warning you see on this page. | 
| Package 242/1974 | Hostname | OS / Arch | INSTALL | BUILD | CHECK | BUILD BIN | ||||||||
| cBioPortalData 2.2.11  (landing page) Marcel Ramos 
 | malbec1 | Linux (Ubuntu 18.04.5 LTS) / x86_64 | OK | OK | OK |  | ||||||||
| tokay1 | Windows Server 2012 R2 Standard / x64 | OK | OK | OK | OK |  | ||||||||
| merida1 | macOS 10.14.6 Mojave / x86_64 | OK | OK | OK | OK |  | ||||||||
| Package: cBioPortalData | 
| Version: 2.2.11 | 
| Command: /Library/Frameworks/R.framework/Versions/Current/Resources/bin/R CMD build --keep-empty-dirs --no-resave-data cBioPortalData | 
| StartedAt: 2021-05-05 18:33:22 -0400 (Wed, 05 May 2021) | 
| EndedAt: 2021-05-05 18:35:28 -0400 (Wed, 05 May 2021) | 
| EllapsedTime: 126.0 seconds | 
| RetCode: 0 | 
| Status: OK | 
| PackageFile: cBioPortalData_2.2.11.tar.gz | 
| PackageFileSize: 502.6 KiB | 
############################################################################## ############################################################################## ### ### Running command: ### ### /Library/Frameworks/R.framework/Versions/Current/Resources/bin/R CMD build --keep-empty-dirs --no-resave-data cBioPortalData ### ############################################################################## ############################################################################## * checking for file ‘cBioPortalData/DESCRIPTION’ ... OK * preparing ‘cBioPortalData’: * checking DESCRIPTION meta-information ... OK * installing the package to build vignettes * creating vignettes ... OK * checking for LF line-endings in source and make files and shell scripts * checking for empty or unneeded directories * building ‘cBioPortalData_2.2.11.tar.gz’