| Back to Multiple platform build/check report for BioC 3.12 | 
 | 
This page was generated on 2021-05-06 12:34:27 -0400 (Thu, 06 May 2021).
| To the developers/maintainers of the bsseq package: Please make sure to use the following settings in order to reproduce any error or warning you see on this page. | 
| Package 213/1974 | Hostname | OS / Arch | INSTALL | BUILD | CHECK | BUILD BIN | ||||||||
| bsseq 1.26.0  (landing page) Kasper Daniel Hansen 
 | malbec1 | Linux (Ubuntu 18.04.5 LTS) / x86_64 | OK | OK | OK |  | ||||||||
| tokay1 | Windows Server 2012 R2 Standard / x64 | OK | OK | OK | OK |  | ||||||||
| merida1 | macOS 10.14.6 Mojave / x86_64 | OK | OK | OK | OK |  | ||||||||
| Package: bsseq | 
| Version: 1.26.0 | 
| Command: rm -rf bsseq.buildbin-libdir && mkdir bsseq.buildbin-libdir && /Users/biocbuild/BBS/utils/build-universal.sh bsseq_1.26.0.tar.gz /Library/Frameworks/R.framework/Versions/Current/Resources/bin/R bsseq.buildbin-libdir | 
| StartedAt: 2021-05-06 08:05:23 -0400 (Thu, 06 May 2021) | 
| EndedAt: 2021-05-06 08:06:55 -0400 (Thu, 06 May 2021) | 
| EllapsedTime: 92.0 seconds | 
| RetCode: 0 | 
| Status: OK | 
| PackageFile: bsseq_1.26.0.tgz | 
| PackageFileSize: 3.595 MiB | 
##############################################################################
##############################################################################
###
### Running command:
###
###   rm -rf bsseq.buildbin-libdir && mkdir bsseq.buildbin-libdir && /Users/biocbuild/BBS/utils/build-universal.sh bsseq_1.26.0.tar.gz /Library/Frameworks/R.framework/Versions/Current/Resources/bin/R bsseq.buildbin-libdir
###
##############################################################################
##############################################################################
>>>>>>> 
>>>>>>> INSTALLATION WITH 'R CMD INSTALL --preclean --no-multiarch --library=bsseq.buildbin-libdir bsseq_1.26.0.tar.gz'
>>>>>>> 
* installing *source* package ‘bsseq’ ...
** using staged installation
** libs
clang++ -mmacosx-version-min=10.13 -std=gnu++11 -I"/Library/Frameworks/R.framework/Resources/include" -DNDEBUG  -I'/Library/Frameworks/R.framework/Versions/4.0/Resources/library/Rcpp/include' -I'/Library/Frameworks/R.framework/Versions/4.0/Resources/library/beachmat/include' -I/usr/local/include   -fPIC  -Wall -g -O2  -c check_M_and_Cov.cpp -o check_M_and_Cov.o
In file included from check_M_and_Cov.cpp:1:
In file included from ./BSseq.h:4:
In file included from /Library/Frameworks/R.framework/Versions/4.0/Resources/library/Rcpp/include/Rcpp.h:57:
/Library/Frameworks/R.framework/Versions/4.0/Resources/library/Rcpp/include/Rcpp/DataFrame.h:136:18: warning: unused variable 'data' [-Wunused-variable]
            SEXP data = Parent::get__();
                 ^
1 warning generated.
clang++ -mmacosx-version-min=10.13 -std=gnu++11 -I"/Library/Frameworks/R.framework/Resources/include" -DNDEBUG  -I'/Library/Frameworks/R.framework/Versions/4.0/Resources/library/Rcpp/include' -I'/Library/Frameworks/R.framework/Versions/4.0/Resources/library/beachmat/include' -I/usr/local/include   -fPIC  -Wall -g -O2  -c init.cpp -o init.o
In file included from init.cpp:1:
In file included from ./BSseq.h:4:
In file included from /Library/Frameworks/R.framework/Versions/4.0/Resources/library/Rcpp/include/Rcpp.h:57:
/Library/Frameworks/R.framework/Versions/4.0/Resources/library/Rcpp/include/Rcpp/DataFrame.h:136:18: warning: unused variable 'data' [-Wunused-variable]
            SEXP data = Parent::get__();
                 ^
1 warning generated.
clang++ -mmacosx-version-min=10.13 -std=gnu++11 -I"/Library/Frameworks/R.framework/Resources/include" -DNDEBUG  -I'/Library/Frameworks/R.framework/Versions/4.0/Resources/library/Rcpp/include' -I'/Library/Frameworks/R.framework/Versions/4.0/Resources/library/beachmat/include' -I/usr/local/include   -fPIC  -Wall -g -O2  -c utils.cpp -o utils.o
In file included from utils.cpp:1:
In file included from ./utils.h:5:
In file included from /Library/Frameworks/R.framework/Versions/4.0/Resources/library/Rcpp/include/Rcpp.h:57:
/Library/Frameworks/R.framework/Versions/4.0/Resources/library/Rcpp/include/Rcpp/DataFrame.h:136:18: warning: unused variable 'data' [-Wunused-variable]
            SEXP data = Parent::get__();
                 ^
1 warning generated.
clang++ -mmacosx-version-min=10.13 -std=gnu++11 -dynamiclib -Wl,-headerpad_max_install_names -undefined dynamic_lookup -single_module -multiply_defined suppress -L/Library/Frameworks/R.framework/Resources/lib -L/usr/local/lib -o bsseq.so check_M_and_Cov.o init.o utils.o -F/Library/Frameworks/R.framework/.. -framework R -Wl,-framework -Wl,CoreFoundation
installing to /Users/biocbuild/bbs-3.12-bioc/meat/bsseq.buildbin-libdir/00LOCK-bsseq/00new/bsseq/libs
** R
** data
** inst
** byte-compile and prepare package for lazy loading
** help
*** installing help indices
** building package indices
** installing vignettes
** testing if installed package can be loaded from temporary location
** checking absolute paths in shared objects and dynamic libraries
** testing if installed package can be loaded from final location
** testing if installed package keeps a record of temporary installation path
* DONE (bsseq)
>>>>>>> 
>>>>>>> FIXING LINKS FOR bsseq.buildbin-libdir/bsseq/libs/bsseq.so
>>>>>>> 
install_name_tool -change "/usr/local/lib/libgcc_s.1.dylib" "/Library/Frameworks/R.framework/Versions/4.0/Resources/lib/libgcc_s.1.dylib" "bsseq.buildbin-libdir/bsseq/libs/bsseq.so"
install_name_tool -change "/usr/local/lib/libgfortran.5.dylib" "/Library/Frameworks/R.framework/Versions/4.0/Resources/lib/libgfortran.5.dylib" "bsseq.buildbin-libdir/bsseq/libs/bsseq.so"
install_name_tool -change "/usr/local/lib/libquadmath.0.dylib" "/Library/Frameworks/R.framework/Versions/4.0/Resources/lib/libquadmath.0.dylib" "bsseq.buildbin-libdir/bsseq/libs/bsseq.so"