| Back to Multiple platform build/check report for BioC 3.12 | 
 | 
This page was generated on 2021-05-06 12:34:27 -0400 (Thu, 06 May 2021).
| To the developers/maintainers of the biscuiteer package: Please make sure to use the following settings in order to reproduce any error or warning you see on this page. | 
| Package 192/1974 | Hostname | OS / Arch | INSTALL | BUILD | CHECK | BUILD BIN | ||||||||
| biscuiteer 1.4.0  (landing page) "Jacob Morrison" 
 | malbec1 | Linux (Ubuntu 18.04.5 LTS) / x86_64 | OK | OK | WARNINGS |  | ||||||||
| tokay1 | Windows Server 2012 R2 Standard / x64 | OK | OK | WARNINGS | OK |  | ||||||||
| merida1 | macOS 10.14.6 Mojave / x86_64 | OK | OK | WARNINGS | OK |  | ||||||||
| Package: biscuiteer | 
| Version: 1.4.0 | 
| Command: rm -rf biscuiteer.buildbin-libdir && mkdir biscuiteer.buildbin-libdir && /Users/biocbuild/BBS/utils/build-universal.sh biscuiteer_1.4.0.tar.gz /Library/Frameworks/R.framework/Versions/Current/Resources/bin/R biscuiteer.buildbin-libdir | 
| StartedAt: 2021-05-06 08:03:45 -0400 (Thu, 06 May 2021) | 
| EndedAt: 2021-05-06 08:05:37 -0400 (Thu, 06 May 2021) | 
| EllapsedTime: 111.9 seconds | 
| RetCode: 0 | 
| Status: OK | 
| PackageFile: biscuiteer_1.4.0.tgz | 
| PackageFileSize: 5.136 MiB | 
############################################################################## ############################################################################## ### ### Running command: ### ### rm -rf biscuiteer.buildbin-libdir && mkdir biscuiteer.buildbin-libdir && /Users/biocbuild/BBS/utils/build-universal.sh biscuiteer_1.4.0.tar.gz /Library/Frameworks/R.framework/Versions/Current/Resources/bin/R biscuiteer.buildbin-libdir ### ############################################################################## ############################################################################## >>>>>>> >>>>>>> INSTALLATION WITH 'R CMD INSTALL --preclean --no-multiarch --library=biscuiteer.buildbin-libdir biscuiteer_1.4.0.tar.gz' >>>>>>> * installing *source* package ‘biscuiteer’ ... ** using staged installation ** R ** data ** inst ** byte-compile and prepare package for lazy loading Warning: replacing previous import ‘BiocParallel::bpstart’ by ‘QDNAseq::bpstart’ when loading ‘biscuiteer’ ** help *** installing help indices ** building package indices ** installing vignettes ** testing if installed package can be loaded from temporary location Warning: replacing previous import ‘BiocParallel::bpstart’ by ‘QDNAseq::bpstart’ when loading ‘biscuiteer’ ** testing if installed package can be loaded from final location Warning: replacing previous import ‘BiocParallel::bpstart’ by ‘QDNAseq::bpstart’ when loading ‘biscuiteer’ ** testing if installed package keeps a record of temporary installation path * DONE (biscuiteer)