| Back to Multiple platform build/check report for BioC 3.12 |
|
This page was generated on 2021-05-06 12:34:25 -0400 (Thu, 06 May 2021).
|
To the developers/maintainers of the bioCancer package: Please make sure to use the following settings in order to reproduce any error or warning you see on this page. |
| Package 155/1974 | Hostname | OS / Arch | INSTALL | BUILD | CHECK | BUILD BIN | ||||||||
| bioCancer 1.18.0 (landing page) Karim Mezhoud
| malbec1 | Linux (Ubuntu 18.04.5 LTS) / x86_64 | OK | OK | WARNINGS | |||||||||
| tokay1 | Windows Server 2012 R2 Standard / x64 | OK | OK | WARNINGS | OK | |||||||||
| merida1 | macOS 10.14.6 Mojave / x86_64 | OK | OK | WARNINGS | OK | |||||||||
| Package: bioCancer |
| Version: 1.18.0 |
| Command: /Library/Frameworks/R.framework/Versions/Current/Resources/bin/R CMD build --keep-empty-dirs --no-resave-data bioCancer |
| StartedAt: 2021-05-05 18:21:35 -0400 (Wed, 05 May 2021) |
| EndedAt: 2021-05-05 18:22:33 -0400 (Wed, 05 May 2021) |
| EllapsedTime: 58.7 seconds |
| RetCode: 0 |
| Status: OK |
| PackageFile: bioCancer_1.18.0.tar.gz |
| PackageFileSize: 8.479 MiB |
############################################################################## ############################################################################## ### ### Running command: ### ### /Library/Frameworks/R.framework/Versions/Current/Resources/bin/R CMD build --keep-empty-dirs --no-resave-data bioCancer ### ############################################################################## ############################################################################## * checking for file ‘bioCancer/DESCRIPTION’ ... OK * preparing ‘bioCancer’: * checking DESCRIPTION meta-information ... OK * installing the package to build vignettes * creating vignettes ... OK * checking for LF line-endings in source and make files and shell scripts * checking for empty or unneeded directories * building ‘bioCancer_1.18.0.tar.gz’