| Back to Multiple platform build/check report for BioC 3.12 | 
 | 
This page was generated on 2021-05-06 12:29:59 -0400 (Thu, 06 May 2021).
| To the developers/maintainers of the beadarray package: Please make sure to use the following settings in order to reproduce any error or warning you see on this page. | 
| Package 134/1974 | Hostname | OS / Arch | INSTALL | BUILD | CHECK | BUILD BIN | ||||||||
| beadarray 2.40.0  (landing page) Mark Dunning 
 | malbec1 | Linux (Ubuntu 18.04.5 LTS) / x86_64 | OK | OK | OK |  | ||||||||
| tokay1 | Windows Server 2012 R2 Standard / x64 | OK | OK | OK | OK |  | ||||||||
| merida1 | macOS 10.14.6 Mojave / x86_64 | OK | OK | OK | OK |  | ||||||||
| Package: beadarray | 
| Version: 2.40.0 | 
| Command: chmod a+r beadarray -R && C:\Users\biocbuild\bbs-3.12-bioc\R\bin\R.exe CMD build --keep-empty-dirs --no-resave-data beadarray | 
| StartedAt: 2021-05-05 19:43:18 -0400 (Wed, 05 May 2021) | 
| EndedAt: 2021-05-05 19:47:38 -0400 (Wed, 05 May 2021) | 
| EllapsedTime: 259.4 seconds | 
| RetCode: 0 | 
| Status: OK | 
| PackageFile: beadarray_2.40.0.tar.gz | 
| PackageFileSize: 2.136 MiB | 
############################################################################## ############################################################################## ### ### Running command: ### ### chmod a+r beadarray -R && C:\Users\biocbuild\bbs-3.12-bioc\R\bin\R.exe CMD build --keep-empty-dirs --no-resave-data beadarray ### ############################################################################## ############################################################################## * checking for file 'beadarray/DESCRIPTION' ... OK * preparing 'beadarray': * checking DESCRIPTION meta-information ... OK * cleaning src * installing the package to build vignettes * creating vignettes ... OK * cleaning src * checking for LF line-endings in source and make files and shell scripts * checking for empty or unneeded directories * building 'beadarray_2.40.0.tar.gz'