| Back to Multiple platform build/check report for BioC 3.12 | 
 | 
This page was generated on 2021-05-06 12:29:59 -0400 (Thu, 06 May 2021).
| To the developers/maintainers of the baySeq package: Please make sure to use the following settings in order to reproduce any error or warning you see on this page. | 
| Package 128/1974 | Hostname | OS / Arch | INSTALL | BUILD | CHECK | BUILD BIN | ||||||||
| baySeq 2.24.0  (landing page) Thomas J. Hardcastle 
 | malbec1 | Linux (Ubuntu 18.04.5 LTS) / x86_64 | OK | OK | OK |  | ||||||||
| tokay1 | Windows Server 2012 R2 Standard / x64 | OK | OK | OK | OK |  | ||||||||
| merida1 | macOS 10.14.6 Mojave / x86_64 | OK | OK | OK | OK |  | ||||||||
| Package: baySeq | 
| Version: 2.24.0 | 
| Command: chmod a+r baySeq -R && C:\Users\biocbuild\bbs-3.12-bioc\R\bin\R.exe CMD build --keep-empty-dirs --no-resave-data baySeq | 
| StartedAt: 2021-05-05 19:42:29 -0400 (Wed, 05 May 2021) | 
| EndedAt: 2021-05-05 19:53:07 -0400 (Wed, 05 May 2021) | 
| EllapsedTime: 637.1 seconds | 
| RetCode: 0 | 
| Status: OK | 
| PackageFile: baySeq_2.24.0.tar.gz | 
| PackageFileSize: 1.099 MiB | 
############################################################################## ############################################################################## ### ### Running command: ### ### chmod a+r baySeq -R && C:\Users\biocbuild\bbs-3.12-bioc\R\bin\R.exe CMD build --keep-empty-dirs --no-resave-data baySeq ### ############################################################################## ############################################################################## * checking for file 'baySeq/DESCRIPTION' ... OK * preparing 'baySeq': * checking DESCRIPTION meta-information ... OK * installing the package to build vignettes * creating vignettes ... OK * checking for LF line-endings in source and make files and shell scripts * checking for empty or unneeded directories * looking to see if a 'data/datalist' file should be added * building 'baySeq_2.24.0.tar.gz'