| Back to Multiple platform build/check report for BioC 3.12 | 
  | 
This page was generated on 2021-05-06 12:34:20 -0400 (Thu, 06 May 2021).
| 
To the developers/maintainers of the arrayQualityMetrics package: Please make sure to use the following settings in order to reproduce any error or warning you see on this page.  | 
| Package 85/1974 | Hostname | OS / Arch | INSTALL | BUILD | CHECK | BUILD BIN | ||||||||
| arrayQualityMetrics 3.46.0  (landing page) Mike Smith 
  | malbec1 | Linux (Ubuntu 18.04.5 LTS) / x86_64 | OK | OK | OK | |||||||||
| tokay1 | Windows Server 2012 R2 Standard / x64 | OK | OK | OK | OK | |||||||||
| merida1 | macOS 10.14.6 Mojave / x86_64 | OK | OK | OK | OK | |||||||||
| Package: arrayQualityMetrics | 
| Version: 3.46.0 | 
| Command: rm -rf arrayQualityMetrics.buildbin-libdir && mkdir arrayQualityMetrics.buildbin-libdir && /Users/biocbuild/BBS/utils/build-universal.sh arrayQualityMetrics_3.46.0.tar.gz /Library/Frameworks/R.framework/Versions/Current/Resources/bin/R arrayQualityMetrics.buildbin-libdir | 
| StartedAt: 2021-05-06 07:55:17 -0400 (Thu, 06 May 2021) | 
| EndedAt: 2021-05-06 07:56:14 -0400 (Thu, 06 May 2021) | 
| EllapsedTime: 56.3 seconds | 
| RetCode: 0 | 
| Status: OK | 
| PackageFile: arrayQualityMetrics_3.46.0.tgz | 
| PackageFileSize: 545.3 KiB | 
############################################################################## ############################################################################## ### ### Running command: ### ### rm -rf arrayQualityMetrics.buildbin-libdir && mkdir arrayQualityMetrics.buildbin-libdir && /Users/biocbuild/BBS/utils/build-universal.sh arrayQualityMetrics_3.46.0.tar.gz /Library/Frameworks/R.framework/Versions/Current/Resources/bin/R arrayQualityMetrics.buildbin-libdir ### ############################################################################## ############################################################################## >>>>>>> >>>>>>> INSTALLATION WITH 'R CMD INSTALL --preclean --no-multiarch --library=arrayQualityMetrics.buildbin-libdir arrayQualityMetrics_3.46.0.tar.gz' >>>>>>> * installing *source* package ‘arrayQualityMetrics’ ... ** using staged installation ** R ** inst ** byte-compile and prepare package for lazy loading ** help *** installing help indices ** building package indices ** installing vignettes ** testing if installed package can be loaded from temporary location ** testing if installed package can be loaded from final location ** testing if installed package keeps a record of temporary installation path * DONE (arrayQualityMetrics)