| Back to Multiple platform build/check report for BioC 3.12 |
|
This page was generated on 2021-05-06 12:29:40 -0400 (Thu, 06 May 2021).
|
To the developers/maintainers of the XBSeq package: Please make sure to use the following settings in order to reproduce any error or warning you see on this page. |
| Package 1958/1974 | Hostname | OS / Arch | INSTALL | BUILD | CHECK | BUILD BIN | ||||||||
| XBSeq 1.22.0 (landing page) Yuanhang Liu
| malbec1 | Linux (Ubuntu 18.04.5 LTS) / x86_64 | OK | OK | OK | |||||||||
| tokay1 | Windows Server 2012 R2 Standard / x64 | OK | OK | OK | OK | |||||||||
| merida1 | macOS 10.14.6 Mojave / x86_64 | OK | OK | OK | OK | |||||||||
| Package: XBSeq |
| Version: 1.22.0 |
| Command: /home/biocbuild/bbs-3.12-bioc/R/bin/R CMD build --keep-empty-dirs --no-resave-data XBSeq |
| StartedAt: 2021-05-05 22:39:51 -0400 (Wed, 05 May 2021) |
| EndedAt: 2021-05-05 22:44:09 -0400 (Wed, 05 May 2021) |
| EllapsedTime: 257.3 seconds |
| RetCode: 0 |
| Status: OK |
| PackageFile: XBSeq_1.22.0.tar.gz |
| PackageFileSize: 1.047 MiB |
##############################################################################
##############################################################################
###
### Running command:
###
### /home/biocbuild/bbs-3.12-bioc/R/bin/R CMD build --keep-empty-dirs --no-resave-data XBSeq
###
##############################################################################
##############################################################################
* checking for file ‘XBSeq/DESCRIPTION’ ... OK
* preparing ‘XBSeq’:
* checking DESCRIPTION meta-information ... OK
* installing the package to build vignettes
* creating vignettes ... OK
Warning: ‘inst/doc’ file
‘XBSeq.html’
ignored as vignettes have been rebuilt.
Run R CMD build with --no-build-vignettes to prevent rebuilding.
* checking for LF line-endings in source and make files and shell scripts
* checking for empty or unneeded directories
* looking to see if a ‘data/datalist’ file should be added
* building ‘XBSeq_1.22.0.tar.gz’