| Back to Multiple platform build/check report for BioC 3.12 | 
 | 
This page was generated on 2021-05-06 12:37:08 -0400 (Thu, 06 May 2021).
| To the developers/maintainers of the TarSeqQC package: Please make sure to use the following settings in order to reproduce any error or warning you see on this page. | 
| Package 1839/1974 | Hostname | OS / Arch | INSTALL | BUILD | CHECK | BUILD BIN | ||||||||
| TarSeqQC 1.20.0  (landing page) Gabriela Merino 
 | malbec1 | Linux (Ubuntu 18.04.5 LTS) / x86_64 | OK | OK | OK |  | ||||||||
| tokay1 | Windows Server 2012 R2 Standard / x64 | OK | OK | TIMEOUT | OK | |||||||||
| merida1 | macOS 10.14.6 Mojave / x86_64 | OK | OK | OK | OK |  | ||||||||
| Package: TarSeqQC | 
| Version: 1.20.0 | 
| Command: /Library/Frameworks/R.framework/Versions/Current/Resources/bin/R CMD build --keep-empty-dirs --no-resave-data TarSeqQC | 
| StartedAt: 2021-05-05 22:31:42 -0400 (Wed, 05 May 2021) | 
| EndedAt: 2021-05-05 22:32:55 -0400 (Wed, 05 May 2021) | 
| EllapsedTime: 72.8 seconds | 
| RetCode: 0 | 
| Status: OK | 
| PackageFile: TarSeqQC_1.20.0.tar.gz | 
| PackageFileSize: 2.657 MiB | 
############################################################################## ############################################################################## ### ### Running command: ### ### /Library/Frameworks/R.framework/Versions/Current/Resources/bin/R CMD build --keep-empty-dirs --no-resave-data TarSeqQC ### ############################################################################## ############################################################################## * checking for file ‘TarSeqQC/DESCRIPTION’ ... OK * preparing ‘TarSeqQC’: * checking DESCRIPTION meta-information ... OK * installing the package to build vignettes * creating vignettes ... OK * checking for LF line-endings in source and make files and shell scripts * checking for empty or unneeded directories * looking to see if a ‘data/datalist’ file should be added * building ‘TarSeqQC_1.20.0.tar.gz’