| Back to Multiple platform build/check report for BioC 3.12 |
|
This page was generated on 2021-05-06 12:29:25 -0400 (Thu, 06 May 2021).
|
To the developers/maintainers of the TFARM package: Please make sure to use the following settings in order to reproduce any error or warning you see on this page. |
| Package 1850/1974 | Hostname | OS / Arch | INSTALL | BUILD | CHECK | BUILD BIN | ||||||||
| TFARM 1.12.0 (landing page) Liuba Nausicaa Martino
| malbec1 | Linux (Ubuntu 18.04.5 LTS) / x86_64 | OK | OK | OK | |||||||||
| tokay1 | Windows Server 2012 R2 Standard / x64 | OK | OK | OK | OK | |||||||||
| merida1 | macOS 10.14.6 Mojave / x86_64 | OK | OK | OK | OK | |||||||||
| Package: TFARM |
| Version: 1.12.0 |
| Command: /home/biocbuild/bbs-3.12-bioc/R/bin/R CMD build --keep-empty-dirs --no-resave-data TFARM |
| StartedAt: 2021-05-05 22:21:00 -0400 (Wed, 05 May 2021) |
| EndedAt: 2021-05-05 22:23:25 -0400 (Wed, 05 May 2021) |
| EllapsedTime: 145.5 seconds |
| RetCode: 0 |
| Status: OK |
| PackageFile: TFARM_1.12.0.tar.gz |
| PackageFileSize: 445.1 KiB |
##############################################################################
##############################################################################
###
### Running command:
###
### /home/biocbuild/bbs-3.12-bioc/R/bin/R CMD build --keep-empty-dirs --no-resave-data TFARM
###
##############################################################################
##############################################################################
* checking for file ‘TFARM/DESCRIPTION’ ... OK
* preparing ‘TFARM’:
* checking DESCRIPTION meta-information ... OK
* installing the package to build vignettes
* creating vignettes ... OK
Warning: ‘inst/doc’ files
‘TFARM.Rnw’, ‘TFARM.pdf’, ‘TFARM.R’
ignored as vignettes have been rebuilt.
Run R CMD build with --no-build-vignettes to prevent rebuilding.
* checking for LF line-endings in source and make files and shell scripts
* checking for empty or unneeded directories
* building ‘TFARM_1.12.0.tar.gz’