| Back to Multiple platform build/check report for BioC 3.12 |
|
This page was generated on 2021-05-06 12:33:55 -0400 (Thu, 06 May 2021).
|
To the developers/maintainers of the TCGAbiolinksGUI package: Please make sure to use the following settings in order to reproduce any error or warning you see on this page. |
| Package 1843/1974 | Hostname | OS / Arch | INSTALL | BUILD | CHECK | BUILD BIN | ||||||||
| TCGAbiolinksGUI 1.16.0 (landing page) Tiago C. Silva
| malbec1 | Linux (Ubuntu 18.04.5 LTS) / x86_64 | OK | OK | OK | |||||||||
| tokay1 | Windows Server 2012 R2 Standard / x64 | OK | OK | OK | OK | |||||||||
| merida1 | macOS 10.14.6 Mojave / x86_64 | OK | OK | OK | OK | |||||||||
| Package: TCGAbiolinksGUI |
| Version: 1.16.0 |
| Command: C:\Users\biocbuild\bbs-3.12-bioc\R\bin\R.exe CMD check --force-multiarch --install=check:TCGAbiolinksGUI.install-out.txt --library=C:\Users\biocbuild\bbs-3.12-bioc\R\library --no-vignettes --timings TCGAbiolinksGUI_1.16.0.tar.gz |
| StartedAt: 2021-05-06 07:28:37 -0400 (Thu, 06 May 2021) |
| EndedAt: 2021-05-06 07:39:25 -0400 (Thu, 06 May 2021) |
| EllapsedTime: 647.3 seconds |
| RetCode: 0 |
| Status: OK |
| CheckDir: TCGAbiolinksGUI.Rcheck |
| Warnings: 0 |
############################################################################## ############################################################################## ### ### Running command: ### ### C:\Users\biocbuild\bbs-3.12-bioc\R\bin\R.exe CMD check --force-multiarch --install=check:TCGAbiolinksGUI.install-out.txt --library=C:\Users\biocbuild\bbs-3.12-bioc\R\library --no-vignettes --timings TCGAbiolinksGUI_1.16.0.tar.gz ### ############################################################################## ############################################################################## * using log directory 'C:/Users/biocbuild/bbs-3.12-bioc/meat/TCGAbiolinksGUI.Rcheck' * using R version 4.0.5 (2021-03-31) * using platform: x86_64-w64-mingw32 (64-bit) * using session charset: ISO8859-1 * using option '--no-vignettes' * checking for file 'TCGAbiolinksGUI/DESCRIPTION' ... OK * this is package 'TCGAbiolinksGUI' version '1.16.0' * checking package namespace information ... OK * checking package dependencies ... OK * checking if this is a source package ... OK * checking if there is a namespace ... OK * checking for hidden files and directories ... OK * checking for portable file names ... OK * checking whether package 'TCGAbiolinksGUI' can be installed ... OK * checking installed package size ... OK * checking package directory ... OK * checking 'build' directory ... OK * checking DESCRIPTION meta-information ... NOTE Malformed Description field: should contain one or more complete sentences. * checking top-level files ... OK * checking for left-over files ... OK * checking index information ... OK * checking package subdirectories ... OK * checking R files for non-ASCII characters ... OK * checking R files for syntax errors ... OK * loading checks for arch 'i386' ** checking whether the package can be loaded ... OK ** checking whether the package can be loaded with stated dependencies ... OK ** checking whether the package can be unloaded cleanly ... OK ** checking whether the namespace can be loaded with stated dependencies ... OK ** checking whether the namespace can be unloaded cleanly ... OK * loading checks for arch 'x64' ** checking whether the package can be loaded ... OK ** checking whether the package can be loaded with stated dependencies ... OK ** checking whether the package can be unloaded cleanly ... OK ** checking whether the namespace can be loaded with stated dependencies ... OK ** checking whether the namespace can be unloaded cleanly ... OK * checking dependencies in R code ... NOTE Namespace in Imports field not imported from: 'DT' All declared Imports should be used. Package in Depends field not imported from: 'TCGAbiolinksGUI.data' These packages need to be imported from (in the NAMESPACE file) for when this namespace is loaded but not attached. * checking S3 generic/method consistency ... OK * checking replacement functions ... OK * checking foreign function calls ... OK * checking R code for possible problems ... OK * checking Rd files ... OK * checking Rd metadata ... OK * checking Rd cross-references ... OK * checking for missing documentation entries ... OK * checking for code/documentation mismatches ... OK * checking Rd \usage sections ... OK * checking Rd contents ... OK * checking for unstated dependencies in examples ... OK * checking files in 'vignettes' ... OK * checking examples ... ** running examples for arch 'i386' ... OK ** running examples for arch 'x64' ... OK * checking for unstated dependencies in vignettes ... OK * checking package vignettes in 'inst/doc' ... OK * checking running R code from vignettes ... SKIPPED * checking re-building of vignette outputs ... SKIPPED * checking PDF version of manual ... OK * DONE Status: 2 NOTEs See 'C:/Users/biocbuild/bbs-3.12-bioc/meat/TCGAbiolinksGUI.Rcheck/00check.log' for details.
TCGAbiolinksGUI.Rcheck/00install.out
##############################################################################
##############################################################################
###
### Running command:
###
### C:\cygwin\bin\curl.exe -O http://172.29.0.3/BBS/3.12/bioc/src/contrib/TCGAbiolinksGUI_1.16.0.tar.gz && rm -rf TCGAbiolinksGUI.buildbin-libdir && mkdir TCGAbiolinksGUI.buildbin-libdir && C:\Users\biocbuild\bbs-3.12-bioc\R\bin\R.exe CMD INSTALL --merge-multiarch --build --library=TCGAbiolinksGUI.buildbin-libdir TCGAbiolinksGUI_1.16.0.tar.gz && C:\Users\biocbuild\bbs-3.12-bioc\R\bin\R.exe CMD INSTALL TCGAbiolinksGUI_1.16.0.zip && rm TCGAbiolinksGUI_1.16.0.tar.gz TCGAbiolinksGUI_1.16.0.zip
###
##############################################################################
##############################################################################
% Total % Received % Xferd Average Speed Time Time Time Current
Dload Upload Total Spent Left Speed
0 0 0 0 0 0 0 0 --:--:-- --:--:-- --:--:-- 0
15 7159k 15 1120k 0 0 8950k 0 --:--:-- --:--:-- --:--:-- 8965k
100 7159k 100 7159k 0 0 23.4M 0 --:--:-- --:--:-- --:--:-- 23.4M
install for i386
* installing *source* package 'TCGAbiolinksGUI' ...
** using staged installation
** R
** inst
** byte-compile and prepare package for lazy loading
** help
*** installing help indices
converting help for package 'TCGAbiolinksGUI'
finding HTML links ... done
TCGAbiolinksGUI html
** building package indices
** installing vignettes
** testing if installed package can be loaded from temporary location
** testing if installed package can be loaded from final location
** testing if installed package keeps a record of temporary installation path
install for x64
* installing *source* package 'TCGAbiolinksGUI' ...
** testing if installed package can be loaded
* MD5 sums
packaged installation of 'TCGAbiolinksGUI' as TCGAbiolinksGUI_1.16.0.zip
* DONE (TCGAbiolinksGUI)
* installing to library 'C:/Users/biocbuild/bbs-3.12-bioc/R/library'
package 'TCGAbiolinksGUI' successfully unpacked and MD5 sums checked
|
TCGAbiolinksGUI.Rcheck/examples_i386/TCGAbiolinksGUI-Ex.timings
|
TCGAbiolinksGUI.Rcheck/examples_x64/TCGAbiolinksGUI-Ex.timings
|