| Back to Multiple platform build/check report for BioC 3.12 | 
 | 
This page was generated on 2021-05-06 12:29:24 -0400 (Thu, 06 May 2021).
| To the developers/maintainers of the TBSignatureProfiler package: Please make sure to use the following settings in order to reproduce any error or warning you see on this page. | 
| Package 1840/1974 | Hostname | OS / Arch | INSTALL | BUILD | CHECK | BUILD BIN | ||||||||
| TBSignatureProfiler 1.2.0  (landing page) David Jenkins 
 | malbec1 | Linux (Ubuntu 18.04.5 LTS) / x86_64 | OK | OK | OK |  | ||||||||
| tokay1 | Windows Server 2012 R2 Standard / x64 | OK | OK | OK | OK |  | ||||||||
| merida1 | macOS 10.14.6 Mojave / x86_64 | OK | OK | OK | OK |  | ||||||||
| Package: TBSignatureProfiler | 
| Version: 1.2.0 | 
| Command: /home/biocbuild/bbs-3.12-bioc/R/bin/R CMD build --keep-empty-dirs --no-resave-data TBSignatureProfiler | 
| StartedAt: 2021-05-05 22:19:17 -0400 (Wed, 05 May 2021) | 
| EndedAt: 2021-05-05 22:20:17 -0400 (Wed, 05 May 2021) | 
| EllapsedTime: 60.2 seconds | 
| RetCode: 0 | 
| Status: OK | 
| PackageFile: TBSignatureProfiler_1.2.0.tar.gz | 
| PackageFileSize: 2.552 MiB | 
############################################################################## ############################################################################## ### ### Running command: ### ### /home/biocbuild/bbs-3.12-bioc/R/bin/R CMD build --keep-empty-dirs --no-resave-data TBSignatureProfiler ### ############################################################################## ############################################################################## * checking for file ‘TBSignatureProfiler/DESCRIPTION’ ... OK * preparing ‘TBSignatureProfiler’: * checking DESCRIPTION meta-information ... OK * installing the package to build vignettes * creating vignettes ... OK * checking for LF line-endings in source and make files and shell scripts * checking for empty or unneeded directories * building ‘TBSignatureProfiler_1.2.0.tar.gz’