| Back to Multiple platform build/check report for BioC 3.12 | 
 | 
This page was generated on 2021-05-06 12:37:08 -0400 (Thu, 06 May 2021).
| To the developers/maintainers of the TADCompare package: Please make sure to use the following settings in order to reproduce any error or warning you see on this page. | 
| Package 1834/1974 | Hostname | OS / Arch | INSTALL | BUILD | CHECK | BUILD BIN | ||||||||
| TADCompare 1.0.0  (landing page) Kellen Cresswell 
 | malbec1 | Linux (Ubuntu 18.04.5 LTS) / x86_64 | OK | OK | OK |  | ||||||||
| tokay1 | Windows Server 2012 R2 Standard / x64 | OK | OK | OK | OK |  | ||||||||
| merida1 | macOS 10.14.6 Mojave / x86_64 | OK | OK | OK | OK |  | ||||||||
| Package: TADCompare | 
| Version: 1.0.0 | 
| Command: /Library/Frameworks/R.framework/Versions/Current/Resources/bin/R CMD build --keep-empty-dirs --no-resave-data TADCompare | 
| StartedAt: 2021-05-05 22:31:15 -0400 (Wed, 05 May 2021) | 
| EndedAt: 2021-05-05 22:34:00 -0400 (Wed, 05 May 2021) | 
| EllapsedTime: 165.0 seconds | 
| RetCode: 0 | 
| Status: OK | 
| PackageFile: TADCompare_1.0.0.tar.gz | 
| PackageFileSize: 4.052 MiB | 
############################################################################## ############################################################################## ### ### Running command: ### ### /Library/Frameworks/R.framework/Versions/Current/Resources/bin/R CMD build --keep-empty-dirs --no-resave-data TADCompare ### ############################################################################## ############################################################################## * checking for file ‘TADCompare/DESCRIPTION’ ... OK * preparing ‘TADCompare’: * checking DESCRIPTION meta-information ... OK * installing the package to build vignettes * creating vignettes ... OK * checking for LF line-endings in source and make files and shell scripts * checking for empty or unneeded directories * building ‘TADCompare_1.0.0.tar.gz’