| Back to Multiple platform build/check report for BioC 3.12 |
|
This page was generated on 2021-05-06 12:33:52 -0400 (Thu, 06 May 2021).
|
To the developers/maintainers of the SwimR package: Please make sure to use the following settings in order to reproduce any error or warning you see on this page. |
| Package 1824/1974 | Hostname | OS / Arch | INSTALL | BUILD | CHECK | BUILD BIN | ||||||||
| SwimR 1.28.0 (landing page) Randy Blakely
| malbec1 | Linux (Ubuntu 18.04.5 LTS) / x86_64 | ERROR | ERROR | skipped | |||||||||
| tokay1 | Windows Server 2012 R2 Standard / x64 | ERROR | ERROR | skipped | skipped | |||||||||
| merida1 | macOS 10.14.6 Mojave / x86_64 | ERROR | ERROR | skipped | skipped | |||||||||
| Package: SwimR |
| Version: 1.28.0 |
| Command: chmod a+r SwimR -R && C:\Users\biocbuild\bbs-3.12-bioc\R\bin\R.exe CMD build --keep-empty-dirs --no-resave-data SwimR |
| StartedAt: 2021-05-05 23:47:54 -0400 (Wed, 05 May 2021) |
| EndedAt: 2021-05-05 23:47:58 -0400 (Wed, 05 May 2021) |
| EllapsedTime: 4.4 seconds |
| RetCode: 1 |
| Status: ERROR |
| PackageFile: SwimR_1.28.0.tar.gz |
| PackageFileSize: 1.602 MiB |
##############################################################################
##############################################################################
###
### Running command:
###
### chmod a+r SwimR -R && C:\Users\biocbuild\bbs-3.12-bioc\R\bin\R.exe CMD build --keep-empty-dirs --no-resave-data SwimR
###
##############################################################################
##############################################################################
* checking for file 'SwimR/DESCRIPTION' ... OK
* preparing 'SwimR':
* checking DESCRIPTION meta-information ... OK
* installing the package to build vignettes
-----------------------------------
ERROR: dependency 'heatmap.plus' is not available for package 'SwimR'
* removing 'C:/Users/biocbuild/bbs-3.12-bioc/tmpdir/RtmpoFngjM/Rinst102460ae2088/SwimR'
-----------------------------------
ERROR: package installation failed