| Back to Multiple platform build/check report for BioC 3.12 | 
 | 
This page was generated on 2021-05-06 12:33:52 -0400 (Thu, 06 May 2021).
| To the developers/maintainers of the SummarizedExperiment package: Please make sure to use the following settings in order to reproduce any error or warning you see on this page. | 
| Package 1814/1974 | Hostname | OS / Arch | INSTALL | BUILD | CHECK | BUILD BIN | ||||||||
| SummarizedExperiment 1.20.0  (landing page) Bioconductor Package Maintainer 
 | malbec1 | Linux (Ubuntu 18.04.5 LTS) / x86_64 | OK | OK | OK |  | ||||||||
| tokay1 | Windows Server 2012 R2 Standard / x64 | OK | OK | WARNINGS | OK |  | ||||||||
| merida1 | macOS 10.14.6 Mojave / x86_64 | OK | OK | OK | OK |  | ||||||||
| Package: SummarizedExperiment | 
| Version: 1.20.0 | 
| Command: chmod a+r SummarizedExperiment -R && C:\Users\biocbuild\bbs-3.12-bioc\R\bin\R.exe CMD build --keep-empty-dirs --no-resave-data SummarizedExperiment | 
| StartedAt: 2021-05-05 23:46:43 -0400 (Wed, 05 May 2021) | 
| EndedAt: 2021-05-05 23:47:49 -0400 (Wed, 05 May 2021) | 
| EllapsedTime: 66.8 seconds | 
| RetCode: 0 | 
| Status: OK | 
| PackageFile: SummarizedExperiment_1.20.0.tar.gz | 
| PackageFileSize: 1.453 MiB | 
############################################################################## ############################################################################## ### ### Running command: ### ### chmod a+r SummarizedExperiment -R && C:\Users\biocbuild\bbs-3.12-bioc\R\bin\R.exe CMD build --keep-empty-dirs --no-resave-data SummarizedExperiment ### ############################################################################## ############################################################################## * checking for file 'SummarizedExperiment/DESCRIPTION' ... OK * preparing 'SummarizedExperiment': * checking DESCRIPTION meta-information ... OK * installing the package to build vignettes * creating vignettes ... OK * checking for LF line-endings in source and make files and shell scripts * checking for empty or unneeded directories * building 'SummarizedExperiment_1.20.0.tar.gz'