| Back to Multiple platform build/check report for BioC 3.12 | 
 | 
This page was generated on 2021-05-06 12:36:54 -0400 (Thu, 06 May 2021).
| To the developers/maintainers of the Spectra package: Please make sure to use the following settings in order to reproduce any error or warning you see on this page. | 
| Package 1764/1974 | Hostname | OS / Arch | INSTALL | BUILD | CHECK | BUILD BIN | ||||||||
| Spectra 1.0.5  (landing page) RforMassSpectrometry Package Maintainer 
 | malbec1 | Linux (Ubuntu 18.04.5 LTS) / x86_64 | OK | OK | OK |  | ||||||||
| tokay1 | Windows Server 2012 R2 Standard / x64 | OK | OK | OK | OK |  | ||||||||
| merida1 | macOS 10.14.6 Mojave / x86_64 | OK | OK | OK | OK |  | ||||||||
| Package: Spectra | 
| Version: 1.0.5 | 
| Command: rm -rf Spectra.buildbin-libdir && mkdir Spectra.buildbin-libdir && /Users/biocbuild/BBS/utils/build-universal.sh Spectra_1.0.5.tar.gz /Library/Frameworks/R.framework/Versions/Current/Resources/bin/R Spectra.buildbin-libdir | 
| StartedAt: 2021-05-06 10:05:43 -0400 (Thu, 06 May 2021) | 
| EndedAt: 2021-05-06 10:06:51 -0400 (Thu, 06 May 2021) | 
| EllapsedTime: 67.8 seconds | 
| RetCode: 0 | 
| Status: OK | 
| PackageFile: Spectra_1.0.5.tgz | 
| PackageFileSize: 961.1 KiB | 
############################################################################## ############################################################################## ### ### Running command: ### ### rm -rf Spectra.buildbin-libdir && mkdir Spectra.buildbin-libdir && /Users/biocbuild/BBS/utils/build-universal.sh Spectra_1.0.5.tar.gz /Library/Frameworks/R.framework/Versions/Current/Resources/bin/R Spectra.buildbin-libdir ### ############################################################################## ############################################################################## >>>>>>> >>>>>>> INSTALLATION WITH 'R CMD INSTALL --preclean --no-multiarch --library=Spectra.buildbin-libdir Spectra_1.0.5.tar.gz' >>>>>>> * installing *source* package ‘Spectra’ ... ** using staged installation ** R ** inst ** byte-compile and prepare package for lazy loading Creating a new generic function for ‘bin’ in package ‘Spectra’ ** help *** installing help indices ** building package indices ** installing vignettes ** testing if installed package can be loaded from temporary location ** testing if installed package can be loaded from final location ** testing if installed package keeps a record of temporary installation path * DONE (Spectra)