| Back to Multiple platform build/check report for BioC 3.12 | 
 | 
This page was generated on 2021-05-06 12:33:43 -0400 (Thu, 06 May 2021).
| To the developers/maintainers of the SparseSignatures package: Please make sure to use the following settings in order to reproduce any error or warning you see on this page. | 
| Package 1757/1974 | Hostname | OS / Arch | INSTALL | BUILD | CHECK | BUILD BIN | ||||||||
| SparseSignatures 2.0.0  (landing page) Luca De Sano 
 | malbec1 | Linux (Ubuntu 18.04.5 LTS) / x86_64 | OK | OK | OK |  | ||||||||
| tokay1 | Windows Server 2012 R2 Standard / x64 | OK | OK | OK | OK |  | ||||||||
| merida1 | macOS 10.14.6 Mojave / x86_64 | OK | OK | OK | OK |  | ||||||||
| Package: SparseSignatures | 
| Version: 2.0.0 | 
| Command: C:\cygwin\bin\curl.exe -O http://172.29.0.3/BBS/3.12/bioc/src/contrib/SparseSignatures_2.0.0.tar.gz && rm -rf SparseSignatures.buildbin-libdir && mkdir SparseSignatures.buildbin-libdir && C:\Users\biocbuild\bbs-3.12-bioc\R\bin\R.exe CMD INSTALL --merge-multiarch --build --library=SparseSignatures.buildbin-libdir SparseSignatures_2.0.0.tar.gz && C:\Users\biocbuild\bbs-3.12-bioc\R\bin\R.exe CMD INSTALL SparseSignatures_2.0.0.zip && rm SparseSignatures_2.0.0.tar.gz SparseSignatures_2.0.0.zip | 
| StartedAt: 2021-05-05 17:59:06 -0400 (Wed, 05 May 2021) | 
| EndedAt: 2021-05-05 18:00:16 -0400 (Wed, 05 May 2021) | 
| EllapsedTime: 70.1 seconds | 
| RetCode: 0 | 
| Status: OK | 
##############################################################################
##############################################################################
###
### Running command:
###
###   C:\cygwin\bin\curl.exe -O http://172.29.0.3/BBS/3.12/bioc/src/contrib/SparseSignatures_2.0.0.tar.gz && rm -rf SparseSignatures.buildbin-libdir && mkdir SparseSignatures.buildbin-libdir && C:\Users\biocbuild\bbs-3.12-bioc\R\bin\R.exe CMD INSTALL --merge-multiarch --build --library=SparseSignatures.buildbin-libdir SparseSignatures_2.0.0.tar.gz && C:\Users\biocbuild\bbs-3.12-bioc\R\bin\R.exe CMD INSTALL SparseSignatures_2.0.0.zip && rm SparseSignatures_2.0.0.tar.gz SparseSignatures_2.0.0.zip
###
##############################################################################
##############################################################################
  % Total    % Received % Xferd  Average Speed   Time    Time     Time  Current
                                 Dload  Upload   Total   Spent    Left  Speed
  0     0    0     0    0     0      0      0 --:--:-- --:--:-- --:--:--     0
100  787k  100  787k    0     0  32.1M      0 --:--:-- --:--:-- --:--:-- 33.4M
install for i386
* installing *source* package 'SparseSignatures' ...
** using staged installation
** R
** data
*** moving datasets to lazyload DB
** inst
** byte-compile and prepare package for lazy loading
** help
*** installing help indices
  converting help for package 'SparseSignatures'
    finding HTML links ... done
    background                              html  
    cv_example                              html  
    import.trinucleotides.counts            html  
    imported_data                           html  
    lambdaRangeAlphaEvaluation              html  
    lambdaRangeBetaEvaluation               html  
    lambda_range_example                    html  
    mutation_categories                     html  
    nmfLasso                                html  
    nmfLassoBootstrap                       html  
    nmfLassoCV                              html  
    nmf_LassoK_example                      html  
    patients                                html  
    patients.plot                           html  
    sigAssignmentCV                         html  
    sigAssignmentEvaluation                 html  
    sigAssignmentLasso                      html  
    signatures.plot                         html  
    ssm560_reduced                          html  
    startingBetaEstimation                  html  
    starting_betas_example                  html  
** building package indices
** installing vignettes
** testing if installed package can be loaded from temporary location
** testing if installed package can be loaded from final location
** testing if installed package keeps a record of temporary installation path
install for x64
* installing *source* package 'SparseSignatures' ...
** testing if installed package can be loaded
* MD5 sums
packaged installation of 'SparseSignatures' as SparseSignatures_2.0.0.zip
* DONE (SparseSignatures)
* installing to library 'C:/Users/biocbuild/bbs-3.12-bioc/R/library'
package 'SparseSignatures' successfully unpacked and MD5 sums checked