| Back to Multiple platform build/check report for BioC 3.12 |
|
This page was generated on 2021-05-06 12:33:52 -0400 (Thu, 06 May 2021).
|
To the developers/maintainers of the SVAPLSseq package: Please make sure to use the following settings in order to reproduce any error or warning you see on this page. |
| Package 1820/1974 | Hostname | OS / Arch | INSTALL | BUILD | CHECK | BUILD BIN | ||||||||
Sutirtha Chakraborty
| malbec1 | Linux (Ubuntu 18.04.5 LTS) / x86_64 | OK | OK | ERROR | |||||||||
| tokay1 | Windows Server 2012 R2 Standard / x64 | OK | OK | ERROR | OK | |||||||||
| merida1 | macOS 10.14.6 Mojave / x86_64 | OK | OK | ERROR | OK | |||||||||
| Package: SVAPLSseq |
| Version: 1.16.0 |
| Command: rm -rf SVAPLSseq.buildbin-libdir && mkdir SVAPLSseq.buildbin-libdir && C:\Users\biocbuild\bbs-3.12-bioc\R\bin\R.exe CMD INSTALL --merge-multiarch --build --library=SVAPLSseq.buildbin-libdir SVAPLSseq_1.16.0.tar.gz |
| StartedAt: 2021-05-06 10:13:51 -0400 (Thu, 06 May 2021) |
| EndedAt: 2021-05-06 10:14:33 -0400 (Thu, 06 May 2021) |
| EllapsedTime: 42.1 seconds |
| RetCode: 0 |
| Status: OK |
| PackageFile: SVAPLSseq_1.16.0.zip |
| PackageFileSize: 292.6 KiB |
##############################################################################
##############################################################################
###
### Running command:
###
### rm -rf SVAPLSseq.buildbin-libdir && mkdir SVAPLSseq.buildbin-libdir && C:\Users\biocbuild\bbs-3.12-bioc\R\bin\R.exe CMD INSTALL --merge-multiarch --build --library=SVAPLSseq.buildbin-libdir SVAPLSseq_1.16.0.tar.gz
###
##############################################################################
##############################################################################
install for i386
* installing *source* package 'SVAPLSseq' ...
** using staged installation
** R
** data
** inst
** byte-compile and prepare package for lazy loading
** help
*** installing help indices
converting help for package 'SVAPLSseq'
finding HTML links ... done
SVAPLSseq-package html
prop.vars html
pvs.adj html
pvs.unadj html
sig.features html
sim.dat html
surr html
svplsSurr-class html
svplsSurr html
svplsTest-class html
svplsTest html
** building package indices
** installing vignettes
** testing if installed package can be loaded from temporary location
Warning: Package 'SVAPLSseq' is deprecated and will be removed from Bioconductor
version 3.13
** testing if installed package can be loaded from final location
Warning: Package 'SVAPLSseq' is deprecated and will be removed from Bioconductor
version 3.13
** testing if installed package keeps a record of temporary installation path
install for x64
* installing *source* package 'SVAPLSseq' ...
** testing if installed package can be loaded
Warning: Package 'SVAPLSseq' is deprecated and will be removed from Bioconductor
version 3.13
* MD5 sums
packaged installation of 'SVAPLSseq' as SVAPLSseq_1.16.0.zip
* DONE (SVAPLSseq)