| Back to Multiple platform build/check report for BioC 3.12 | 
 | 
This page was generated on 2021-05-06 12:36:54 -0400 (Thu, 06 May 2021).
| To the developers/maintainers of the SPEM package: Please make sure to use the following settings in order to reproduce any error or warning you see on this page. | 
| Package 1766/1974 | Hostname | OS / Arch | INSTALL | BUILD | CHECK | BUILD BIN | ||||||||
| SPEM 1.30.0  (landing page) Xinyi YANG 
 | malbec1 | Linux (Ubuntu 18.04.5 LTS) / x86_64 | OK | OK | OK |  | ||||||||
| tokay1 | Windows Server 2012 R2 Standard / x64 | OK | OK | OK | OK |  | ||||||||
| merida1 | macOS 10.14.6 Mojave / x86_64 | OK | OK | OK | OK |  | ||||||||
| Package: SPEM | 
| Version: 1.30.0 | 
| Command: rm -rf SPEM.buildbin-libdir && mkdir SPEM.buildbin-libdir && /Users/biocbuild/BBS/utils/build-universal.sh SPEM_1.30.0.tar.gz /Library/Frameworks/R.framework/Versions/Current/Resources/bin/R SPEM.buildbin-libdir | 
| StartedAt: 2021-05-06 10:05:57 -0400 (Thu, 06 May 2021) | 
| EndedAt: 2021-05-06 10:07:01 -0400 (Thu, 06 May 2021) | 
| EllapsedTime: 64.1 seconds | 
| RetCode: 0 | 
| Status: OK | 
| PackageFile: SPEM_1.30.0.tgz | 
| PackageFileSize: 385.6 KiB | 
############################################################################## ############################################################################## ### ### Running command: ### ### rm -rf SPEM.buildbin-libdir && mkdir SPEM.buildbin-libdir && /Users/biocbuild/BBS/utils/build-universal.sh SPEM_1.30.0.tar.gz /Library/Frameworks/R.framework/Versions/Current/Resources/bin/R SPEM.buildbin-libdir ### ############################################################################## ############################################################################## >>>>>>> >>>>>>> INSTALLATION WITH 'R CMD INSTALL --preclean --no-multiarch --library=SPEM.buildbin-libdir SPEM_1.30.0.tar.gz' >>>>>>> * installing *source* package ‘SPEM’ ... ** using staged installation ** R ** data ** inst ** byte-compile and prepare package for lazy loading ** help *** installing help indices ** building package indices ** installing vignettes ** testing if installed package can be loaded from temporary location ** testing if installed package can be loaded from final location ** testing if installed package keeps a record of temporary installation path * DONE (SPEM)