| Back to Multiple platform build/check report for BioC 3.12 | 
  | 
This page was generated on 2021-05-06 12:36:49 -0400 (Thu, 06 May 2021).
| 
To the developers/maintainers of the SIMAT package: Please make sure to use the following settings in order to reproduce any error or warning you see on this page.  | 
| Package 1713/1974 | Hostname | OS / Arch | INSTALL | BUILD | CHECK | BUILD BIN | ||||||||
| SIMAT 1.22.0  (landing page) M. R. Nezami Ranjbar 
  | malbec1 | Linux (Ubuntu 18.04.5 LTS) / x86_64 | OK | OK | OK | |||||||||
| tokay1 | Windows Server 2012 R2 Standard / x64 | OK | OK | OK | OK | |||||||||
| merida1 | macOS 10.14.6 Mojave / x86_64 | OK | OK | OK | OK | |||||||||
| Package: SIMAT | 
| Version: 1.22.0 | 
| Command: /Library/Frameworks/R.framework/Versions/Current/Resources/bin/R CMD build --keep-empty-dirs --no-resave-data SIMAT | 
| StartedAt: 2021-05-05 22:14:27 -0400 (Wed, 05 May 2021) | 
| EndedAt: 2021-05-05 22:15:01 -0400 (Wed, 05 May 2021) | 
| EllapsedTime: 33.7 seconds | 
| RetCode: 0 | 
| Status: OK | 
| PackageFile: SIMAT_1.22.0.tar.gz | 
| PackageFileSize: 1.018 MiB | 
############################################################################## ############################################################################## ### ### Running command: ### ### /Library/Frameworks/R.framework/Versions/Current/Resources/bin/R CMD build --keep-empty-dirs --no-resave-data SIMAT ### ############################################################################## ############################################################################## * checking for file ‘SIMAT/DESCRIPTION’ ... OK * preparing ‘SIMAT’: * checking DESCRIPTION meta-information ... OK * installing the package to build vignettes * creating vignettes ... OK * checking for LF line-endings in source and make files and shell scripts * checking for empty or unneeded directories * looking to see if a ‘data/datalist’ file should be added * building ‘SIMAT_1.22.0.tar.gz’