| Back to Multiple platform build/check report for BioC 3.12 |
|
This page was generated on 2021-05-06 12:36:42 -0400 (Thu, 06 May 2021).
|
To the developers/maintainers of the SCnorm package: Please make sure to use the following settings in order to reproduce any error or warning you see on this page. |
| Package 1649/1974 | Hostname | OS / Arch | INSTALL | BUILD | CHECK | BUILD BIN | ||||||||
| SCnorm 1.12.1 (landing page) Rhonda Bacher
| malbec1 | Linux (Ubuntu 18.04.5 LTS) / x86_64 | OK | OK | OK | |||||||||
| tokay1 | Windows Server 2012 R2 Standard / x64 | OK | OK | OK | OK | |||||||||
| merida1 | macOS 10.14.6 Mojave / x86_64 | OK | OK | OK | OK | |||||||||
| Package: SCnorm |
| Version: 1.12.1 |
| Command: rm -rf SCnorm.buildbin-libdir && mkdir SCnorm.buildbin-libdir && /Users/biocbuild/BBS/utils/build-universal.sh SCnorm_1.12.1.tar.gz /Library/Frameworks/R.framework/Versions/Current/Resources/bin/R SCnorm.buildbin-libdir |
| StartedAt: 2021-05-06 09:56:55 -0400 (Thu, 06 May 2021) |
| EndedAt: 2021-05-06 09:57:56 -0400 (Thu, 06 May 2021) |
| EllapsedTime: 60.8 seconds |
| RetCode: 0 |
| Status: OK |
| PackageFile: SCnorm_1.12.1.tgz |
| PackageFileSize: 3.018 MiB |
############################################################################## ############################################################################## ### ### Running command: ### ### rm -rf SCnorm.buildbin-libdir && mkdir SCnorm.buildbin-libdir && /Users/biocbuild/BBS/utils/build-universal.sh SCnorm_1.12.1.tar.gz /Library/Frameworks/R.framework/Versions/Current/Resources/bin/R SCnorm.buildbin-libdir ### ############################################################################## ############################################################################## >>>>>>> >>>>>>> INSTALLATION WITH 'R CMD INSTALL --preclean --no-multiarch --library=SCnorm.buildbin-libdir SCnorm_1.12.1.tar.gz' >>>>>>> * installing *source* package ‘SCnorm’ ... ** using staged installation ** R ** data *** moving datasets to lazyload DB ** inst ** byte-compile and prepare package for lazy loading Warning in .recacheSubclasses(def@className, def, env) : undefined subclass "numericVector" of class "Mnumeric"; definition not updated ** help *** installing help indices ** building package indices ** installing vignettes ** testing if installed package can be loaded from temporary location Warning in .recacheSubclasses(def@className, def, env) : undefined subclass "numericVector" of class "Mnumeric"; definition not updated ** testing if installed package can be loaded from final location Warning in .recacheSubclasses(def@className, def, env) : undefined subclass "numericVector" of class "Mnumeric"; definition not updated ** testing if installed package keeps a record of temporary installation path * DONE (SCnorm)