| Back to Multiple platform build/check report for BioC 3.12 | 
 | 
This page was generated on 2021-05-06 12:33:26 -0400 (Thu, 06 May 2021).
| To the developers/maintainers of the SCAN.UPC package: Please make sure to use the following settings in order to reproduce any error or warning you see on this page. | 
| Package 1626/1974 | Hostname | OS / Arch | INSTALL | BUILD | CHECK | BUILD BIN | ||||||||
| SCAN.UPC 2.32.0  (landing page) Stephen R. Piccolo 
 | malbec1 | Linux (Ubuntu 18.04.5 LTS) / x86_64 | OK | OK | OK |  | ||||||||
| tokay1 | Windows Server 2012 R2 Standard / x64 | OK | OK | OK | OK |  | ||||||||
| merida1 | macOS 10.14.6 Mojave / x86_64 | OK | OK | OK | OK |  | ||||||||
| Package: SCAN.UPC | 
| Version: 2.32.0 | 
| Command: rm -rf SCAN.UPC.buildbin-libdir && mkdir SCAN.UPC.buildbin-libdir && C:\Users\biocbuild\bbs-3.12-bioc\R\bin\R.exe CMD INSTALL --merge-multiarch --build --library=SCAN.UPC.buildbin-libdir SCAN.UPC_2.32.0.tar.gz | 
| StartedAt: 2021-05-06 10:02:46 -0400 (Thu, 06 May 2021) | 
| EndedAt: 2021-05-06 10:03:35 -0400 (Thu, 06 May 2021) | 
| EllapsedTime: 49.0 seconds | 
| RetCode: 0 | 
| Status: OK | 
| PackageFile: SCAN.UPC_2.32.0.zip | 
| PackageFileSize: 469 KiB | 
##############################################################################
##############################################################################
###
### Running command:
###
###   rm -rf SCAN.UPC.buildbin-libdir && mkdir SCAN.UPC.buildbin-libdir && C:\Users\biocbuild\bbs-3.12-bioc\R\bin\R.exe CMD INSTALL --merge-multiarch --build --library=SCAN.UPC.buildbin-libdir SCAN.UPC_2.32.0.tar.gz
###
##############################################################################
##############################################################################
install for i386
* installing *source* package 'SCAN.UPC' ...
** using staged installation
** R
** inst
** byte-compile and prepare package for lazy loading
Parallel computing support for 'oligo/crlmm': Disabled
     - Load 'ff'
     - Load and register a 'foreach' adaptor
        Example - Using 'multicore' for 2 cores:
             library(doMC)
             registerDoMC(2)
================================================================================
** help
*** installing help indices
  converting help for package 'SCAN.UPC'
    finding HTML links ... done
    BatchAdjust                             html  
    BatchAdjustFromFile                     html  
    InstallBrainArrayPackage                html  
    ParseMetaFromGtfFile                    html  
    SCAN                                    html  
    SCAN_TwoColor                           html  
    UPC_Generic                             html  
    UPC_Generic_ExpressionSet               html  
    UPC_RNASeq                              html  
    UPC_RNASeq_Single                       html  
    UPC_TwoColor                            html  
** building package indices
** installing vignettes
** testing if installed package can be loaded from temporary location
Parallel computing support for 'oligo/crlmm': Disabled
     - Load 'ff'
     - Load and register a 'foreach' adaptor
        Example - Using 'multicore' for 2 cores:
             library(doMC)
             registerDoMC(2)
================================================================================
** testing if installed package can be loaded from final location
Parallel computing support for 'oligo/crlmm': Disabled
     - Load 'ff'
     - Load and register a 'foreach' adaptor
        Example - Using 'multicore' for 2 cores:
             library(doMC)
             registerDoMC(2)
================================================================================
** testing if installed package keeps a record of temporary installation path
install for x64
* installing *source* package 'SCAN.UPC' ...
** testing if installed package can be loaded
Parallel computing support for 'oligo/crlmm': Disabled
     - Load 'ff'
     - Load and register a 'foreach' adaptor
        Example - Using 'multicore' for 2 cores:
             library(doMC)
             registerDoMC(2)
================================================================================
* MD5 sums
packaged installation of 'SCAN.UPC' as SCAN.UPC_2.32.0.zip
* DONE (SCAN.UPC)