| Back to Multiple platform build/check report for BioC 3.12 |
|
This page was generated on 2021-05-06 12:33:11 -0400 (Thu, 06 May 2021).
|
To the developers/maintainers of the ResidualMatrix package: Please make sure to use the following settings in order to reproduce any error or warning you see on this page. |
| Package 1506/1974 | Hostname | OS / Arch | INSTALL | BUILD | CHECK | BUILD BIN | ||||||||
| ResidualMatrix 1.0.0 (landing page) Aaron Lun
| malbec1 | Linux (Ubuntu 18.04.5 LTS) / x86_64 | OK | OK | OK | |||||||||
| tokay1 | Windows Server 2012 R2 Standard / x64 | OK | OK | OK | OK | |||||||||
| merida1 | macOS 10.14.6 Mojave / x86_64 | OK | OK | OK | OK | |||||||||
| Package: ResidualMatrix |
| Version: 1.0.0 |
| Command: rm -rf ResidualMatrix.buildbin-libdir && mkdir ResidualMatrix.buildbin-libdir && C:\Users\biocbuild\bbs-3.12-bioc\R\bin\R.exe CMD INSTALL --merge-multiarch --build --library=ResidualMatrix.buildbin-libdir ResidualMatrix_1.0.0.tar.gz |
| StartedAt: 2021-05-06 09:55:21 -0400 (Thu, 06 May 2021) |
| EndedAt: 2021-05-06 09:55:46 -0400 (Thu, 06 May 2021) |
| EllapsedTime: 24.9 seconds |
| RetCode: 0 |
| Status: OK |
| PackageFile: ResidualMatrix_1.0.0.zip |
| PackageFileSize: 580 KiB |
##############################################################################
##############################################################################
###
### Running command:
###
### rm -rf ResidualMatrix.buildbin-libdir && mkdir ResidualMatrix.buildbin-libdir && C:\Users\biocbuild\bbs-3.12-bioc\R\bin\R.exe CMD INSTALL --merge-multiarch --build --library=ResidualMatrix.buildbin-libdir ResidualMatrix_1.0.0.tar.gz
###
##############################################################################
##############################################################################
install for i386
* installing *source* package 'ResidualMatrix' ...
** using staged installation
** R
** inst
** byte-compile and prepare package for lazy loading
** help
*** installing help indices
converting help for package 'ResidualMatrix'
finding HTML links ... done
ResidualMatrix-class html
finding level-2 HTML links ... done
ResidualMatrix-package html
ResidualMatrixSeed-class html
** building package indices
** installing vignettes
** testing if installed package can be loaded from temporary location
** testing if installed package can be loaded from final location
** testing if installed package keeps a record of temporary installation path
install for x64
* installing *source* package 'ResidualMatrix' ...
** testing if installed package can be loaded
* MD5 sums
packaged installation of 'ResidualMatrix' as ResidualMatrix_1.0.0.zip
* DONE (ResidualMatrix)