| Back to Multiple platform build/check report for BioC 3.12 |
|
This page was generated on 2021-05-06 12:28:48 -0400 (Thu, 06 May 2021).
|
To the developers/maintainers of the Repitools package: Please make sure to use the following settings in order to reproduce any error or warning you see on this page. |
| Package 1502/1974 | Hostname | OS / Arch | INSTALL | BUILD | CHECK | BUILD BIN | ||||||||
| Repitools 1.36.0 (landing page) Mark Robinson
| malbec1 | Linux (Ubuntu 18.04.5 LTS) / x86_64 | OK | OK | OK | |||||||||
| tokay1 | Windows Server 2012 R2 Standard / x64 | OK | OK | WARNINGS | OK | |||||||||
| merida1 | macOS 10.14.6 Mojave / x86_64 | OK | OK | OK | OK | |||||||||
| Package: Repitools |
| Version: 1.36.0 |
| Command: /home/biocbuild/bbs-3.12-bioc/R/bin/R CMD check --install=check:Repitools.install-out.txt --library=/home/biocbuild/bbs-3.12-bioc/R/library --no-vignettes --timings Repitools_1.36.0.tar.gz |
| StartedAt: 2021-05-06 05:08:28 -0400 (Thu, 06 May 2021) |
| EndedAt: 2021-05-06 05:16:45 -0400 (Thu, 06 May 2021) |
| EllapsedTime: 497.6 seconds |
| RetCode: 0 |
| Status: OK |
| CheckDir: Repitools.Rcheck |
| Warnings: 0 |
##############################################################################
##############################################################################
###
### Running command:
###
### /home/biocbuild/bbs-3.12-bioc/R/bin/R CMD check --install=check:Repitools.install-out.txt --library=/home/biocbuild/bbs-3.12-bioc/R/library --no-vignettes --timings Repitools_1.36.0.tar.gz
###
##############################################################################
##############################################################################
* using log directory ‘/home/biocbuild/bbs-3.12-bioc/meat/Repitools.Rcheck’
* using R version 4.0.5 (2021-03-31)
* using platform: x86_64-pc-linux-gnu (64-bit)
* using session charset: UTF-8
* using option ‘--no-vignettes’
* checking for file ‘Repitools/DESCRIPTION’ ... OK
* this is package ‘Repitools’ version ‘1.36.0’
* checking package namespace information ... OK
* checking package dependencies ... OK
* checking if this is a source package ... OK
* checking if there is a namespace ... OK
* checking for hidden files and directories ... OK
* checking for portable file names ... OK
* checking for sufficient/correct file permissions ... OK
* checking whether package ‘Repitools’ can be installed ... OK
* checking installed package size ... OK
* checking package directory ... OK
* checking ‘build’ directory ... OK
* checking DESCRIPTION meta-information ... OK
* checking top-level files ... OK
* checking for left-over files ... OK
* checking index information ... OK
* checking package subdirectories ... OK
* checking R files for non-ASCII characters ... OK
* checking R files for syntax errors ... OK
* checking whether the package can be loaded ... OK
* checking whether the package can be loaded with stated dependencies ... OK
* checking whether the package can be unloaded cleanly ... OK
* checking whether the namespace can be loaded with stated dependencies ... OK
* checking whether the namespace can be unloaded cleanly ... OK
* checking dependencies in R code ... OK
* checking S3 generic/method consistency ... OK
* checking replacement functions ... OK
* checking foreign function calls ... OK
* checking R code for possible problems ... OK
* checking Rd files ... OK
* checking Rd metadata ... OK
* checking Rd cross-references ... OK
* checking for missing documentation entries ... OK
* checking for code/documentation mismatches ... OK
* checking Rd \usage sections ... OK
* checking Rd contents ... OK
* checking for unstated dependencies in examples ... OK
* checking contents of ‘data’ directory ... OK
* checking data for non-ASCII characters ... OK
* checking data for ASCII and uncompressed saves ... OK
* checking line endings in C/C++/Fortran sources/headers ... OK
* checking line endings in Makefiles ... OK
* checking compilation flags in Makevars ... OK
* checking for GNU extensions in Makefiles ... OK
* checking for portable use of $(BLAS_LIBS) and $(LAPACK_LIBS) ... OK
* checking use of PKG_*FLAGS in Makefiles ... OK
* checking compiled code ... OK
* checking files in ‘vignettes’ ... OK
* checking examples ... OK
Examples with CPU (user + system) or elapsed time > 5s
user system elapsed
methylEst 71.412 5.824 25.460
empBayes 33.868 3.864 17.718
sequenceCalc 10.416 0.324 10.759
cpgDensityCalc 10.236 0.416 10.661
BayMethList-class 9.280 0.212 9.509
determineOffset 7.744 0.172 7.931
* checking for unstated dependencies in ‘tests’ ... OK
* checking tests ...
Running ‘tests.R’
OK
* checking for unstated dependencies in vignettes ... OK
* checking package vignettes in ‘inst/doc’ ... OK
* checking running R code from vignettes ... SKIPPED
* checking re-building of vignette outputs ... SKIPPED
* checking PDF version of manual ... OK
* DONE
Status: OK
Repitools.Rcheck/00install.out
############################################################################## ############################################################################## ### ### Running command: ### ### /home/biocbuild/bbs-3.12-bioc/R/bin/R CMD INSTALL Repitools ### ############################################################################## ############################################################################## * installing to library ‘/home/biocbuild/bbs-3.12-bioc/R/library’ * installing *source* package ‘Repitools’ ... ** using staged installation ** libs gcc -I"/home/biocbuild/bbs-3.12-bioc/R/include" -DNDEBUG -I/usr/local/include -D R_NO_REMAP -I. -fpic -g -O2 -Wall -c const.c -o const.o gcc -I"/home/biocbuild/bbs-3.12-bioc/R/include" -DNDEBUG -I/usr/local/include -D R_NO_REMAP -I. -fpic -g -O2 -Wall -c hyp2f1.c -o hyp2f1.o gcc -I"/home/biocbuild/bbs-3.12-bioc/R/include" -DNDEBUG -I/usr/local/include -D R_NO_REMAP -I. -fpic -g -O2 -Wall -c mtherr.c -o mtherr.o gcc -shared -L/home/biocbuild/bbs-3.12-bioc/R/lib -L/usr/local/lib -o Repitools.so const.o hyp2f1.o mtherr.o -L/home/biocbuild/bbs-3.12-bioc/R/lib -lR installing to /home/biocbuild/bbs-3.12-bioc/R/library/00LOCK-Repitools/00new/Repitools/libs ** R ** data ** inst ** byte-compile and prepare package for lazy loading ** help *** installing help indices ** building package indices ** installing vignettes ** testing if installed package can be loaded from temporary location ** checking absolute paths in shared objects and dynamic libraries ** testing if installed package can be loaded from final location ** testing if installed package keeps a record of temporary installation path * DONE (Repitools)
Repitools.Rcheck/tests/tests.Rout
R version 4.0.5 (2021-03-31) -- "Shake and Throw"
Copyright (C) 2021 The R Foundation for Statistical Computing
Platform: x86_64-pc-linux-gnu (64-bit)
R is free software and comes with ABSOLUTELY NO WARRANTY.
You are welcome to redistribute it under certain conditions.
Type 'license()' or 'licence()' for distribution details.
R is a collaborative project with many contributors.
Type 'contributors()' for more information and
'citation()' on how to cite R or R packages in publications.
Type 'demo()' for some demos, 'help()' for on-line help, or
'help.start()' for an HTML browser interface to help.
Type 'q()' to quit R.
> require("Repitools")
Loading required package: Repitools
Loading required package: BiocGenerics
Loading required package: parallel
Attaching package: 'BiocGenerics'
The following objects are masked from 'package:parallel':
clusterApply, clusterApplyLB, clusterCall, clusterEvalQ,
clusterExport, clusterMap, parApply, parCapply, parLapply,
parLapplyLB, parRapply, parSapply, parSapplyLB
The following objects are masked from 'package:stats':
IQR, mad, sd, var, xtabs
The following objects are masked from 'package:base':
Filter, Find, Map, Position, Reduce, anyDuplicated, append,
as.data.frame, basename, cbind, colnames, dirname, do.call,
duplicated, eval, evalq, get, grep, grepl, intersect, is.unsorted,
lapply, mapply, match, mget, order, paste, pmax, pmax.int, pmin,
pmin.int, rank, rbind, rownames, sapply, setdiff, sort, table,
tapply, union, unique, unsplit, which.max, which.min
> require("BSgenome.Hsapiens.UCSC.hg18")
Loading required package: BSgenome.Hsapiens.UCSC.hg18
Loading required package: BSgenome
Loading required package: S4Vectors
Loading required package: stats4
Attaching package: 'S4Vectors'
The following object is masked from 'package:base':
expand.grid
Loading required package: IRanges
Loading required package: GenomeInfoDb
Loading required package: GenomicRanges
Loading required package: Biostrings
Loading required package: XVector
Attaching package: 'Biostrings'
The following object is masked from 'package:base':
strsplit
Loading required package: rtracklayer
Attaching package: 'rtracklayer'
The following object is masked from 'package:Repitools':
blocks
> options(warn = -1)
>
> probes <- data.frame(chr = c("chr1", "chr9", "chrY", "chr1", "chr21", "chr6", "chr6", "chr2", "chrX", "chr11"), position = c(10000, 5500, 100000, 11000, 20000000, 500100, 499900, 700000, 9900, 90000), strand = c('+', '+', '+', '+', '-', '-', '-', '+', '-', '+'), stringsAsFactors = FALSE)
> genes <- data.frame(chr = c("chr1", "chr9", "chr11", "chr1", "chr11", "chr6", "chr6", "chr22", "chrY", "chr21"), start = c(10000, 7900, 950000, 10500, 74000000, 450000, 5000000, 44000000, 1500, 9800000), end = c(12500, 9500, 1000000, 14500, 75000000, 500000, 9000000, 45000000, 3000, 10000000), strand = c('+', '-', '-', '+', '-', '-', '-', '+', '+', '-'), name = paste("Gene", 1:10), stringsAsFactors = FALSE)
>
> crossMatch <- annotationLookup(probes, genes, 5000, 5000)
Processing mapping between probes and features.
Mapping done.
> correctCrossMatch <- list(indexes = list(`Gene 1` = as.integer(c(1, 4)), `Gene 2` = as.integer(2), `Gene 3` = integer(), `Gene 4` = as.integer(c(1, 4)), `Gene 5` = integer(), `Gene 6` = as.integer(c(6, 7)), `Gene 7` = integer(), `Gene 8` = integer(), `Gene 9` = integer(), `Gene 10` = integer()), offsets = list(`Gene 1` = as.integer(c(0, 1000)), `Gene 2` = as.integer(4000), `Gene 3` = numeric(), `Gene 4` = as.integer(c(-500, 500)), `Gene 5` = numeric(), `Gene 6` = as.integer(c(-100, 100)), `Gene 7` = numeric(), `Gene 8` = numeric(), `Gene 9` = numeric(), `Gene 10` = numeric()))
> names(correctCrossMatch$offsets$`Gene 1`) <- c(1, 4)
> names(correctCrossMatch$offsets$`Gene 2`) <- c(2)
> names(correctCrossMatch$offsets$`Gene 4`) <- c(1, 4)
> names(correctCrossMatch$offsets$`Gene 6`) <- c(6, 7)
> names(correctCrossMatch$offsets$`Gene 8`) <- character()
> names(correctCrossMatch$offsets$`Gene 9`) <- character()
>
> if(!isTRUE(all.equal(crossMatch, correctCrossMatch)))
+ stop("Error in annotationLookup function.")
> cat("anontationLookup tested fine.\n")
anontationLookup tested fine.
>
> lookupTable <- makeWindowLookupTable(crossMatch$indexes, crossMatch$offsets, starts = seq(-5000, 4900, 100), ends = seq(-4900, 5000, 100))
> correctLookupTable <- matrix(NA, nrow = 10, ncol = 100, dimnames = list(genes$names, seq(-4950, 4950, 100)))
> correctLookupTable[1, c(50, 51)] <- 1
> correctLookupTable[1, c(60, 61)] <- 4
> correctLookupTable[2, c(90, 91)] <- 2
> correctLookupTable[4, c(45, 46)] <- 1
> correctLookupTable[4, c(55, 56)] <- 4
> correctLookupTable[6, c(49, 50)] <- 6
> correctLookupTable[6, c(51, 52)] <- 7
>
> if(!all(lookupTable == correctLookupTable, na.rm = TRUE))
+ stop("Error in makeWindowLookupTable function")
> cat("makeWindowLookupTable tested fine.\n")
makeWindowLookupTable tested fine.
>
> cpgDensity <- cpgDensityCalc(genes, organism = Hsapiens, window = 500, w.function="linear")
CpG density calculated for a sample.
> if(!isTRUE(all.equal(cpgDensity, c(5.784, 7.620, 5.828, 2.928, 2.080, 1.252, 0.000, 7.404, 3.928, 0.000))))
+ stop("cpgDensityCalc not working for window = 500, scaling = linear")
> cpgDensity <- cpgDensityCalc(genes, window = 100, w.function = "log", organism = Hsapiens)
CpG density calculated for a sample.
> if(!isTRUE(all.equal(round(cpgDensity, 3), c(2.424, 1.882, 1.436, 0.084, 0.379, 0.000, 0.000, 0.263, 1.392, 0.000))))
+ stop("cpgDensityCalc not working for window = 100, scaling = log")
> cpgDensity <- cpgDensityCalc(genes, window = 1000, w.function = "exp", organism = Hsapiens)
CpG density calculated for a sample.
> if(!isTRUE(all.equal(round(cpgDensity, 3), c(4.874, 5.835, 4.999, 2.239, 1.567, 0.851, 0.054, 5.589, 3.229,0.062))))
+ stop("cpgDensityCalc not working for window = 1000, scaling = exp")
> cpgDensity <- cpgDensityCalc(genes, window = 500, w.function = "none", organism = Hsapiens)
CpG density calculated for a sample.
> if(!isTRUE(all.equal(cpgDensity, c(11, 14, 16, 6, 4, 2, 0, 15, 9, 0))))
+ stop("cpgDensityCalc not working for window = 500, scaling = none")
> cat("cpgDensityCalc tested fine.\n")
cpgDensityCalc tested fine.
>
> GCpercent <- gcContentCalc(genes, Hsapiens, 500)
Calculating GC content.
> if(!isTRUE(all.equal(GCpercent, c(0.504, 0.586, 0.560, 0.470, 0.540, 0.304, 0.356, 0.638, 0.444, 0.388))))
+ stop("Error in gcContentCalc function")
> cat("gcContentCalc tested fine.\n")
gcContentCalc tested fine.
>
> findsCount <- sequenceCalc(genes, Hsapiens, 500, pattern = "AATT")
> if(!isTRUE(all.equal(findsCount, c(1, 1, 0, 2, 1, 8, 2, 0, 4, 10))))
+ stop("Error in sequenceCalc function counting task")
>
> findsPlaces <- sequenceCalc(genes, Hsapiens, 500, pattern = "AATT", positions = TRUE)
> correctPlaces <- list(-62, 181, NULL, c(-140, -98), 231, c(-219, -146, -88, -12, 12, 182, 209, 214), c(-61, 60), NULL, c(-115, -30, 11, 80), c(-238, -228, -202, -189, -177, -106, -21, 148, 158, 238))
> if(!isTRUE(all.equal(findsPlaces, correctPlaces)))
+ stop("Error in sequenceCalc function positions task")
> cat("sequenceCalc tested fine.\n")
sequenceCalc tested fine.
> cat("All tests passed.\n")
All tests passed.
>
> proc.time()
user system elapsed
100.568 3.544 104.484
Repitools.Rcheck/Repitools-Ex.timings
| name | user | system | elapsed | |
| BAM2GRanges | 0.152 | 0.008 | 0.160 | |
| BayMethList-class | 9.280 | 0.212 | 9.509 | |
| GCadjustCopy | 0 | 0 | 0 | |
| GCbiasPlots | 0.000 | 0.000 | 0.001 | |
| QdnaData | 0.140 | 0.000 | 0.139 | |
| abcdDNA | 0 | 0 | 0 | |
| absoluteCN | 0 | 0 | 0 | |
| annoDF2GR | 0.036 | 0.004 | 0.039 | |
| annoGR2DF | 0.204 | 0.000 | 0.202 | |
| annotationBlocksCounts | 0.156 | 0.004 | 0.160 | |
| annotationBlocksLookup | 0.056 | 0.000 | 0.054 | |
| annotationCounts | 0.128 | 0.004 | 0.134 | |
| annotationLookup | 0.100 | 0.000 | 0.099 | |
| binPlots | 1.268 | 0.032 | 1.300 | |
| blocksStats | 0.212 | 0.004 | 0.217 | |
| checkProbes | 0.14 | 0.00 | 0.14 | |
| chromosomeCNplots | 0 | 0 | 0 | |
| clusterPlots | 0.864 | 0.008 | 0.872 | |
| cpgDensityCalc | 10.236 | 0.416 | 10.661 | |
| cpgDensityPlot | 4.112 | 0.040 | 4.161 | |
| determineOffset | 7.744 | 0.172 | 7.931 | |
| empBayes | 33.868 | 3.864 | 17.718 | |
| enrichmentCalc | 1.116 | 0.028 | 1.147 | |
| enrichmentPlot | 2.312 | 0.020 | 2.332 | |
| featureBlocks | 0.024 | 0.000 | 0.026 | |
| featureScores | 0.596 | 0.008 | 0.601 | |
| findClusters | 1.808 | 0.000 | 1.809 | |
| gcContentCalc | 3.644 | 0.268 | 3.933 | |
| genQC | 0 | 0 | 0 | |
| genomeBlocks | 0.096 | 0.000 | 0.096 | |
| getProbePositionsDf | 0.000 | 0.000 | 0.001 | |
| getSampleOffsets | 0 | 0 | 0 | |
| hyper | 0.004 | 0.000 | 0.000 | |
| loadPairFile | 0 | 0 | 0 | |
| loadSampleDirectory | 0.000 | 0.000 | 0.001 | |
| makeWindowLookupTable | 0.060 | 0.000 | 0.061 | |
| mappabilityCalc | 0 | 0 | 0 | |
| maskOut | 4.248 | 0.100 | 4.359 | |
| mergeReplicates | 1.068 | 0.000 | 1.067 | |
| methylEst | 71.412 | 5.824 | 25.460 | |
| multiHeatmap | 0.068 | 0.000 | 0.068 | |
| plotClusters | 0.168 | 0.000 | 0.168 | |
| plotQdnaByCN | 0 | 0 | 0 | |
| processNDF | 0 | 0 | 0 | |
| profilePlots | 0 | 0 | 0 | |
| regionStats | 0 | 0 | 0 | |
| relativeCN | 0.096 | 0.000 | 0.108 | |
| sequenceCalc | 10.416 | 0.324 | 10.759 | |
| setCNVOffsets | 0 | 0 | 0 | |
| summarizeScores | 0.664 | 0.028 | 0.690 | |
| writeWig | 0 | 0 | 0 | |