| Back to Multiple platform build/check report for BioC 3.12 | 
 | 
This page was generated on 2021-05-06 12:28:46 -0400 (Thu, 06 May 2021).
| To the developers/maintainers of the Rdisop package: Please make sure to use the following settings in order to reproduce any error or warning you see on this page. | 
| Package 1479/1974 | Hostname | OS / Arch | INSTALL | BUILD | CHECK | BUILD BIN | ||||||||
| Rdisop 1.50.0  (landing page) Steffen Neumann 
 | malbec1 | Linux (Ubuntu 18.04.5 LTS) / x86_64 | OK | OK | WARNINGS |  | ||||||||
| tokay1 | Windows Server 2012 R2 Standard / x64 | OK | OK | WARNINGS | OK |  | ||||||||
| merida1 | macOS 10.14.6 Mojave / x86_64 | OK | OK | WARNINGS | OK |  | ||||||||
| Package: Rdisop | 
| Version: 1.50.0 | 
| Command: /home/biocbuild/bbs-3.12-bioc/R/bin/R CMD build --keep-empty-dirs --no-resave-data Rdisop | 
| StartedAt: 2021-05-05 21:19:32 -0400 (Wed, 05 May 2021) | 
| EndedAt: 2021-05-05 21:20:07 -0400 (Wed, 05 May 2021) | 
| EllapsedTime: 34.7 seconds | 
| RetCode: 0 | 
| Status: OK | 
| PackageFile: Rdisop_1.50.0.tar.gz | 
| PackageFileSize: 846.1 KiB | 
############################################################################## ############################################################################## ### ### Running command: ### ### /home/biocbuild/bbs-3.12-bioc/R/bin/R CMD build --keep-empty-dirs --no-resave-data Rdisop ### ############################################################################## ############################################################################## * checking for file ‘Rdisop/DESCRIPTION’ ... OK * preparing ‘Rdisop’: * checking DESCRIPTION meta-information ... OK * cleaning src * running ‘cleanup’ * installing the package to build vignettes * creating vignettes ... OK * cleaning src * running ‘cleanup’ * checking for LF line-endings in source and make files and shell scripts * checking for empty or unneeded directories * building ‘Rdisop_1.50.0.tar.gz’