| Back to Multiple platform build/check report for BioC 3.12 | 
  | 
This page was generated on 2021-05-06 12:36:18 -0400 (Thu, 06 May 2021).
| 
To the developers/maintainers of the Rcade package: Please make sure to use the following settings in order to reproduce any error or warning you see on this page.  | 
| Package 1464/1974 | Hostname | OS / Arch | INSTALL | BUILD | CHECK | BUILD BIN | ||||||||
| Rcade 1.32.0  (landing page) Jonathan Cairns 
  | malbec1 | Linux (Ubuntu 18.04.5 LTS) / x86_64 | OK | OK | OK | |||||||||
| tokay1 | Windows Server 2012 R2 Standard / x64 | OK | OK | OK | OK | |||||||||
| merida1 | macOS 10.14.6 Mojave / x86_64 | ERROR | ERROR | skipped | skipped | |||||||||
| Package: Rcade | 
| Version: 1.32.0 | 
| Command: /Library/Frameworks/R.framework/Versions/Current/Resources/bin/R CMD build --keep-empty-dirs --no-resave-data Rcade | 
| StartedAt: 2021-05-05 21:34:13 -0400 (Wed, 05 May 2021) | 
| EndedAt: 2021-05-05 21:34:20 -0400 (Wed, 05 May 2021) | 
| EllapsedTime: 6.5 seconds | 
| RetCode: 1 | 
| Status: ERROR | 
| PackageFile: None | 
| PackageFileSize: NA | 
##############################################################################
##############################################################################
###
### Running command:
###
###   /Library/Frameworks/R.framework/Versions/Current/Resources/bin/R CMD build --keep-empty-dirs --no-resave-data Rcade
###
##############################################################################
##############################################################################
* checking for file ‘Rcade/DESCRIPTION’ ... OK
* preparing ‘Rcade’:
* checking DESCRIPTION meta-information ... OK
* installing the package to build vignettes
      -----------------------------------
* installing *source* package ‘Rcade’ ...
** using staged installation
** R
** data
** inst
** byte-compile and prepare package for lazy loading
ERROR: lazy loading failed for package ‘Rcade’
* removing ‘/private/tmp/Rtmp5TlTyu/Rinst17cf6d473631/Rcade’
      -----------------------------------
ERROR: package installation failed