| Back to Multiple platform build/check report for BioC 3.12 |
|
This page was generated on 2021-05-06 12:33:06 -0400 (Thu, 06 May 2021).
|
To the developers/maintainers of the RbcBook1 package: Please make sure to use the following settings in order to reproduce any error or warning you see on this page. |
| Package 1456/1974 | Hostname | OS / Arch | INSTALL | BUILD | CHECK | BUILD BIN | ||||||||
| RbcBook1 1.58.0 (landing page) Vince Carey
| malbec1 | Linux (Ubuntu 18.04.5 LTS) / x86_64 | OK | OK | OK | |||||||||
| tokay1 | Windows Server 2012 R2 Standard / x64 | OK | OK | OK | OK | |||||||||
| merida1 | macOS 10.14.6 Mojave / x86_64 | OK | OK | OK | OK | |||||||||
| Package: RbcBook1 |
| Version: 1.58.0 |
| Command: rm -rf RbcBook1.buildbin-libdir && mkdir RbcBook1.buildbin-libdir && C:\Users\biocbuild\bbs-3.12-bioc\R\bin\R.exe CMD INSTALL --merge-multiarch --build --library=RbcBook1.buildbin-libdir RbcBook1_1.58.0.tar.gz |
| StartedAt: 2021-05-06 09:52:21 -0400 (Thu, 06 May 2021) |
| EndedAt: 2021-05-06 09:52:53 -0400 (Thu, 06 May 2021) |
| EllapsedTime: 32.1 seconds |
| RetCode: 0 |
| Status: OK |
| PackageFile: RbcBook1_1.58.0.zip |
| PackageFileSize: 6.452 MiB |
##############################################################################
##############################################################################
###
### Running command:
###
### rm -rf RbcBook1.buildbin-libdir && mkdir RbcBook1.buildbin-libdir && C:\Users\biocbuild\bbs-3.12-bioc\R\bin\R.exe CMD INSTALL --merge-multiarch --build --library=RbcBook1.buildbin-libdir RbcBook1_1.58.0.tar.gz
###
##############################################################################
##############################################################################
install for i386
* installing *source* package 'RbcBook1' ...
** using staged installation
** R
** data
** inst
** byte-compile and prepare package for lazy loading
** help
*** installing help indices
converting help for package 'RbcBook1'
finding HTML links ... done
bcStangle html
bcSweave html
bcr html
checkVerbatimLines html
imageSize html
perf html
requireAllBook1 html
rpart2gNEL html
** building package indices
** installing vignettes
** testing if installed package can be loaded from temporary location
** testing if installed package can be loaded from final location
** testing if installed package keeps a record of temporary installation path
install for x64
* installing *source* package 'RbcBook1' ...
** testing if installed package can be loaded
* MD5 sums
packaged installation of 'RbcBook1' as RbcBook1_1.58.0.zip
* DONE (RbcBook1)