| Back to Multiple platform build/check report for BioC 3.12 |
|
This page was generated on 2021-05-06 12:36:18 -0400 (Thu, 06 May 2021).
|
To the developers/maintainers of the Rariant package: Please make sure to use the following settings in order to reproduce any error or warning you see on this page. |
| Package 1455/1974 | Hostname | OS / Arch | INSTALL | BUILD | CHECK | BUILD BIN | ||||||||
Julian Gehring
| malbec1 | Linux (Ubuntu 18.04.5 LTS) / x86_64 | ERROR | ERROR | skipped | |||||||||
| tokay1 | Windows Server 2012 R2 Standard / x64 | ERROR | ERROR | skipped | skipped | |||||||||
| merida1 | macOS 10.14.6 Mojave / x86_64 | ERROR | ERROR | skipped | skipped | |||||||||
| Package: Rariant |
| Version: 1.26.0 |
| Command: /Library/Frameworks/R.framework/Versions/Current/Resources/bin/R CMD build --keep-empty-dirs --no-resave-data Rariant |
| StartedAt: 2021-05-05 21:33:15 -0400 (Wed, 05 May 2021) |
| EndedAt: 2021-05-05 21:33:39 -0400 (Wed, 05 May 2021) |
| EllapsedTime: 23.8 seconds |
| RetCode: 1 |
| Status: ERROR |
| PackageFile: None |
| PackageFileSize: NA |
##############################################################################
##############################################################################
###
### Running command:
###
### /Library/Frameworks/R.framework/Versions/Current/Resources/bin/R CMD build --keep-empty-dirs --no-resave-data Rariant
###
##############################################################################
##############################################################################
* checking for file ‘Rariant/DESCRIPTION’ ... OK
* preparing ‘Rariant’:
* checking DESCRIPTION meta-information ... OK
* installing the package to build vignettes
-----------------------------------
* installing *source* package ‘Rariant’ ...
** using staged installation
** R
** inst
** byte-compile and prepare package for lazy loading
Error: object 'rbind_all' is not exported by 'namespace:dplyr'
Execution halted
ERROR: lazy loading failed for package ‘Rariant’
* removing ‘/private/tmp/RtmpGJUJiy/Rinst16da673621eee/Rariant’
-----------------------------------
ERROR: package installation failed