| Back to Multiple platform build/check report for BioC 3.12 |
|
This page was generated on 2021-05-06 12:33:06 -0400 (Thu, 06 May 2021).
|
To the developers/maintainers of the RankProd package: Please make sure to use the following settings in order to reproduce any error or warning you see on this page. |
| Package 1453/1974 | Hostname | OS / Arch | INSTALL | BUILD | CHECK | BUILD BIN | ||||||||
| RankProd 3.16.0 (landing page) Francesco Del Carratore
| malbec1 | Linux (Ubuntu 18.04.5 LTS) / x86_64 | OK | OK | OK | |||||||||
| tokay1 | Windows Server 2012 R2 Standard / x64 | OK | OK | OK | OK | |||||||||
| merida1 | macOS 10.14.6 Mojave / x86_64 | OK | OK | OK | OK | |||||||||
| Package: RankProd |
| Version: 3.16.0 |
| Command: rm -rf RankProd.buildbin-libdir && mkdir RankProd.buildbin-libdir && C:\Users\biocbuild\bbs-3.12-bioc\R\bin\R.exe CMD INSTALL --merge-multiarch --build --library=RankProd.buildbin-libdir RankProd_3.16.0.tar.gz |
| StartedAt: 2021-05-06 09:52:15 -0400 (Thu, 06 May 2021) |
| EndedAt: 2021-05-06 09:52:50 -0400 (Thu, 06 May 2021) |
| EllapsedTime: 35.4 seconds |
| RetCode: 0 |
| Status: OK |
| PackageFile: RankProd_3.16.0.zip |
| PackageFileSize: 815.1 KiB |
##############################################################################
##############################################################################
###
### Running command:
###
### rm -rf RankProd.buildbin-libdir && mkdir RankProd.buildbin-libdir && C:\Users\biocbuild\bbs-3.12-bioc\R\bin\R.exe CMD INSTALL --merge-multiarch --build --library=RankProd.buildbin-libdir RankProd_3.16.0.tar.gz
###
##############################################################################
##############################################################################
install for i386
* installing *source* package 'RankProd' ...
** using staged installation
** R
** data
** inst
** byte-compile and prepare package for lazy loading
** help
*** installing help indices
converting help for package 'RankProd'
finding HTML links ... done
Apples html
RP html
RP.advance html
RPadvance html
RSadvance html
RankProd-internal html
RankProducts html
arab html
golub html
lymphoma html
plotRP html
topGene html
** building package indices
** installing vignettes
** testing if installed package can be loaded from temporary location
** testing if installed package can be loaded from final location
** testing if installed package keeps a record of temporary installation path
install for x64
* installing *source* package 'RankProd' ...
** testing if installed package can be loaded
* MD5 sums
packaged installation of 'RankProd' as RankProd_3.16.0.zip
* DONE (RankProd)