| Back to Multiple platform build/check report for BioC 3.12 |
|
This page was generated on 2021-05-06 12:33:20 -0400 (Thu, 06 May 2021).
|
To the developers/maintainers of the ROSeq package: Please make sure to use the following settings in order to reproduce any error or warning you see on this page. |
| Package 1569/1974 | Hostname | OS / Arch | INSTALL | BUILD | CHECK | BUILD BIN | ||||||||
| ROSeq 1.2.10 (landing page) Krishan Gupta
| malbec1 | Linux (Ubuntu 18.04.5 LTS) / x86_64 | OK | OK | OK | |||||||||
| tokay1 | Windows Server 2012 R2 Standard / x64 | OK | OK | OK | OK | |||||||||
| merida1 | macOS 10.14.6 Mojave / x86_64 | OK | OK | OK | OK | |||||||||
| Package: ROSeq |
| Version: 1.2.10 |
| Command: rm -rf ROSeq.buildbin-libdir && mkdir ROSeq.buildbin-libdir && C:\Users\biocbuild\bbs-3.12-bioc\R\bin\R.exe CMD INSTALL --merge-multiarch --build --library=ROSeq.buildbin-libdir ROSeq_1.2.10.tar.gz |
| StartedAt: 2021-05-06 09:59:27 -0400 (Thu, 06 May 2021) |
| EndedAt: 2021-05-06 09:59:54 -0400 (Thu, 06 May 2021) |
| EllapsedTime: 26.2 seconds |
| RetCode: 0 |
| Status: OK |
| PackageFile: ROSeq_1.2.10.zip |
| PackageFileSize: 7.217 MiB |
##############################################################################
##############################################################################
###
### Running command:
###
### rm -rf ROSeq.buildbin-libdir && mkdir ROSeq.buildbin-libdir && C:\Users\biocbuild\bbs-3.12-bioc\R\bin\R.exe CMD INSTALL --merge-multiarch --build --library=ROSeq.buildbin-libdir ROSeq_1.2.10.tar.gz
###
##############################################################################
##############################################################################
install for i386
* installing *source* package 'ROSeq' ...
** using staged installation
** R
** data
*** moving datasets to lazyload DB
** inst
** byte-compile and prepare package for lazy loading
** help
*** installing help indices
converting help for package 'ROSeq'
finding HTML links ... done
L_Tung_single html
ROSeq html
TMMnormalization html
computeDEG html
findParams html
getDataStatistics html
getI html
getd html
getdu1da html
getdu1db html
getdu2da html
getdu2db html
getdvda html
getdvdb html
getu1 html
getu2 html
getv html
initiateAnalysis html
minimizeNLL html
** building package indices
** installing vignettes
** testing if installed package can be loaded from temporary location
** testing if installed package can be loaded from final location
** testing if installed package keeps a record of temporary installation path
install for x64
* installing *source* package 'ROSeq' ...
** testing if installed package can be loaded
* MD5 sums
packaged installation of 'ROSeq' as ROSeq_1.2.10.zip
* DONE (ROSeq)